BEGIN:VCALENDAR
VERSION:2.0
PRODID:-//ChamberMaster//Event Calendar 2.0//EN
METHOD:PUBLISH
X-PUBLISHED-TTL:P3D
REFRESH-INTERVAL:P3D
CALSCALE:GREGORIAN
BEGIN:VEVENT
DTSTART:20130515T213000Z
DTEND:20130515T230000Z
X-MICROSOFT-CDO-ALLDAYEVENT:FALSE
SUMMARY:Business After Hours
DESCRIPTION:We will be celebrating the opening of the Northtowne Art Coalition art gallery in the Williams Spurgeon Kuhl & Freshock Architects building.\n\n	\n\n	Join us for the Ribbon Cutting on the new One-Ten Gallery.
X-ALT-DESC;FMTTYPE=text/html:<div style="color: gray\;">\n	<span style="color: rgb(0\, 0\, 0)\;"><span style="font-size: 14px\;"><span style="font-family: tahoma\;"><strong>We will be celebrating the opening of the Northtowne Art Coalition art gallery in the Williams Spurgeon Kuhl &amp\; Freshock Architects building.<br />\n	<br />\n	Join us for the Ribbon Cutting on the new One-Ten Gallery.</strong></span></span></span></div>\n
LOCATION:110 Armour Road
UID:e.211.2637
SEQUENCE:3
DTSTAMP:20260425T194514Z
URL:https://members.nkcbusinesscouncil.com/events/details/business-after-hours-05-15-2013-2637
END:VEVENT

END:VCALENDAR
