BEGIN:VCALENDAR
VERSION:2.0
PRODID:-//ChamberMaster//Event Calendar 2.0//EN
METHOD:PUBLISH
X-PUBLISHED-TTL:P3D
REFRESH-INTERVAL:P3D
CALSCALE:GREGORIAN
BEGIN:VEVENT
DTSTART:20150513T213000Z
DTEND:20150513T230000Z
X-MICROSOFT-CDO-ALLDAYEVENT:FALSE
SUMMARY:Business After Hours
DESCRIPTION:Join us at Morrill & Janes Bank for some food\, drinks and networking.
X-ALT-DESC;FMTTYPE=text/html:Join us at Morrill &amp\; Janes Bank for some food\, drinks and networking.
LOCATION:Morrill & Janes Bank 2301 Burlington Suite 110 North Kansas City\, MO
UID:e.211.4413
SEQUENCE:3
DTSTAMP:20260424T110603Z
URL:https://members.nkcbusinesscouncil.com/events/details/business-after-hours-05-13-2015-4413
END:VEVENT

END:VCALENDAR
