BEGIN:VCALENDAR
VERSION:2.0
PRODID:-//ChamberMaster//Event Calendar 2.0//EN
METHOD:PUBLISH
X-PUBLISHED-TTL:P3D
REFRESH-INTERVAL:P3D
CALSCALE:GREGORIAN
BEGIN:VEVENT
DTSTART:20130319T213000Z
DTEND:20130319T230000Z
X-MICROSOFT-CDO-ALLDAYEVENT:FALSE
SUMMARY:Business After Hours
DESCRIPTION:This month's After Hours "Happy Hour" will be hosted by Concerned Care at Chappell's.
X-ALT-DESC;FMTTYPE=text/html:This month&#39\;s After Hours &quot\;Happy Hour&quot\; will be hosted by Concerned Care at Chappell&#39\;s.
LOCATION:Chappell's Restaurant and Sports Museum 323 Armour
UID:e.211.2635
SEQUENCE:3
DTSTAMP:20260425T224947Z
URL:https://members.nkcbusinesscouncil.com/events/details/business-after-hours-03-19-2013-2635
END:VEVENT

END:VCALENDAR
