BEGIN:VCALENDAR
VERSION:2.0
PRODID:-//ChamberMaster//Event Calendar 2.0//EN
METHOD:PUBLISH
X-PUBLISHED-TTL:P3D
REFRESH-INTERVAL:P3D
CALSCALE:GREGORIAN
BEGIN:VEVENT
DTSTART:20130220T230000Z
DTEND:20130221T003000Z
X-MICROSOFT-CDO-ALLDAYEVENT:FALSE
SUMMARY:Business After Hours
DESCRIPTION:Free Beer Tasting at Pat's Pub. Stop by and taste beers from Weston Missouri tonight.\n\n	\n\n	Sponsored by Pat's Pub and NKC Beverage.
X-ALT-DESC;FMTTYPE=text/html:<p>\n	Free Beer Tasting at Pat&#39\;s Pub. Stop by and taste beers from Weston Missouri tonight.</p>\n<p>\n	<br />\n	Sponsored by Pat&#39\;s Pub and NKC Beverage.</p>\n
LOCATION:1315 Swift
UID:e.211.2634
SEQUENCE:3
DTSTAMP:20260426T001333Z
URL:https://members.nkcbusinesscouncil.com/events/details/business-after-hours-02-20-2013-2634
END:VEVENT

END:VCALENDAR
