BEGIN:VCALENDAR
VERSION:2.0
PRODID:-//ChamberMaster//Event Calendar 2.0//EN
METHOD:PUBLISH
X-PUBLISHED-TTL:P3D
REFRESH-INTERVAL:P3D
CALSCALE:GREGORIAN
BEGIN:VEVENT
DTSTART:20130116T223000Z
DTEND:20130117T000000Z
X-MICROSOFT-CDO-ALLDAYEVENT:FALSE
SUMMARY:Business After Hours
DESCRIPTION:Start off the New Year right at the liNKCity After Hours.
X-ALT-DESC;FMTTYPE=text/html:Start off the New Year right at the liNKCity After Hours.
LOCATION:312 Armour
UID:e.211.2633
SEQUENCE:3
DTSTAMP:20260426T013410Z
URL:https://members.nkcbusinesscouncil.com/events/details/business-after-hours-01-16-2013-2633
END:VEVENT

END:VCALENDAR
