BEGIN:VCALENDAR
VERSION:2.0
PRODID:-//ChamberMaster//Event Calendar 2.0//EN
METHOD:PUBLISH
X-PUBLISHED-TTL:P3D
REFRESH-INTERVAL:P3D
CALSCALE:GREGORIAN
BEGIN:VEVENT
DTSTART:20151027T123000Z
DTEND:20151027T140000Z
X-MICROSOFT-CDO-ALLDAYEVENT:FALSE
SUMMARY:BSNF Logistics Open House
DESCRIPTION:Join us as we welcome one of our newest members\, BSNF Logistics.\n\nThere will be coffee\, treats and an interesting introduction to who BSNF is and what they do.
X-ALT-DESC;FMTTYPE=text/html:Join us as we welcome one of our newest members\, BSNF Logistics.<br />\nThere will be coffee\, treats and an interesting introduction to who BSNF is and what they do.
LOCATION:BSNF Logistics 1828 Swift\, Suite 404
UID:e.211.4675
SEQUENCE:3
DTSTAMP:20260424T045850Z
URL:https://members.nkcbusinesscouncil.com/events/details/bsnf-logistics-open-house-10-27-2015-4675
END:VEVENT

END:VCALENDAR
