BEGIN:VCALENDAR
VERSION:2.0
PRODID:-//ChamberMaster//Event Calendar 2.0//EN
METHOD:PUBLISH
X-PUBLISHED-TTL:P3D
REFRESH-INTERVAL:P3D
CALSCALE:GREGORIAN
BEGIN:VEVENT
DTSTART:20150402T160000Z
DTEND:20150402T170000Z
X-MICROSOFT-CDO-ALLDAYEVENT:FALSE
SUMMARY:Brown Bag Luncheon
DESCRIPTION:Does your business have a current Twitter page? Do you know what\, when and how to tweet? Bring your lunch and find out the best way to utilize Twitter to get your business noticed and followed on social media.
X-ALT-DESC;FMTTYPE=text/html:Does your business have a current&nbsp\;Twitter page? Do you know what\, when and how to tweet? Bring your lunch and find out the best way to utilize&nbsp\;Twitter to get your business noticed and followed on social media.
LOCATION:North Kansas City Business Council Offices 320 Armour Road\, Suite 220
UID:e.211.4412
SEQUENCE:3
DTSTAMP:20260424T121002Z
URL:https://members.nkcbusinesscouncil.com/events/details/brown-bag-luncheon-04-02-2015-4412
END:VEVENT

END:VCALENDAR
