BEGIN:VCALENDAR
VERSION:2.0
PRODID:-//ChamberMaster//Event Calendar 2.0//EN
METHOD:PUBLISH
X-PUBLISHED-TTL:P3D
REFRESH-INTERVAL:P3D
CALSCALE:GREGORIAN
BEGIN:VEVENT
DTSTART:20150219T170000Z
DTEND:20150219T180000Z
X-MICROSOFT-CDO-ALLDAYEVENT:FALSE
SUMMARY:Brown Bag Luncheon
DESCRIPTION:Does your business have a current Facebook page? Do you know what\, when and how to post? Bring your lunch and find out the best way to utilize Facebook to get your business noticed and followed on social media.
X-ALT-DESC;FMTTYPE=text/html:Does your business have a current Facebook page? Do you know what\, when and how to post? Bring your lunch and find out the best way to utilize Facebook to get your business noticed and followed on social media.
LOCATION:North Kansas City Business Council Offices 320 Armour Road\, Suite 220
UID:e.211.4408
SEQUENCE:3
DTSTAMP:20260424T151314Z
URL:https://members.nkcbusinesscouncil.com/events/details/brown-bag-luncheon-02-19-2015-4408
END:VEVENT

END:VCALENDAR
