BEGIN:VCALENDAR
VERSION:2.0
PRODID:-//ChamberMaster//Event Calendar 2.0//EN
METHOD:PUBLISH
X-PUBLISHED-TTL:P3D
REFRESH-INTERVAL:P3D
CALSCALE:GREGORIAN
BEGIN:VEVENT
DTSTART;VALUE=DATE:20160521
DTEND;VALUE=DATE:20160522
TRANSP:TRANSPARENT
X-MICROSOFT-CDO-ALLDAYEVENT:TRUE
SUMMARY:Briar Fest
DESCRIPTION:BRIAR FEST\, SATURDAY MAY 21ST\n\nThis will be our first year for a booth at this festival on the Briarcliff Village Mulberry Lake--featuring a cast of different local bands playing each hour (sponsored by The Bridge 90.9 Radio).  There will be 8 food trucks\, and a beer garden. That's where we'll be\, serving beer samples\, along with a demonstration of our PicoBrew Zymatic.  The festival is 11 AM-9 PM\, and benefits the Northland Therapeutic Riding Center.
X-ALT-DESC;FMTTYPE=text/html:<span style="color: green\; font-family: &quot\;Times New Roman&quot\;\,&quot\;serif&quot\;\; font-size: 10.5pt\; mso-fareast-font-family: &quot\;Times New Roman&quot\;\; mso-ansi-language: EN-US\; mso-fareast-language: EN-US\; mso-bidi-language: AR-SA\;">BRIAR FEST\, SATURDAY MAY 21ST</span><br />\n<span style="font-family: &quot\;Times New Roman&quot\;\,&quot\;serif&quot\;\; font-size: 10.5pt\; mso-fareast-font-family: &quot\;Times New Roman&quot\;\; mso-ansi-language: EN-US\; mso-fareast-language: EN-US\; mso-bidi-language: AR-SA\;"><font color="#000000">This will be our first year for a booth at this festival on the Briarcliff Village Mulberry Lake--featuring a cast of different local bands playing each hour (sponsored by The Bridge 90.9 Radio). &nbsp\;There will be 8 food trucks\, and a beer garden. That&#39\;s where we&#39\;ll be\, serving&nbsp\;beer samples\, along with a demonstration of our PicoBrew Zymatic. &nbsp\;The festival is 11 AM-9 PM\, and benefits the Northland Therapeutic Riding Center.&nbsp\;&nbsp\;</font></span>
LOCATION:Visit the website for more information. http://thevillageatbriarcliff.com/events/event/briar-fest/
UID:e.211.5074
SEQUENCE:3
DTSTAMP:20260423T144900Z
URL:https://members.nkcbusinesscouncil.com/events/details/briar-fest-05-21-2016-5074
END:VEVENT

END:VCALENDAR
