BEGIN:VCALENDAR
VERSION:2.0
PRODID:-//ChamberMaster//Event Calendar 2.0//EN
METHOD:PUBLISH
X-PUBLISHED-TTL:P3D
REFRESH-INTERVAL:P3D
CALSCALE:GREGORIAN
BEGIN:VEVENT
DTSTART:20151204T003000Z
DTEND:20151204T020000Z
X-MICROSOFT-CDO-ALLDAYEVENT:FALSE
SUMMARY:Branding 201: Who are You and Does it Matter?
DESCRIPTION:Branding 201: Who are YOU and Does it Matter?\n\n\n\nIt seems that all we are talking about these days is "branding." The most important brand we will ever build is our own. In this session we will help you understand how your public persona impacts your business and tips and tricks to keep you in the limelight not in the hot seat!
X-ALT-DESC;FMTTYPE=text/html:<h3>Branding 201: Who are YOU and Does it Matter?</h3>\n\n<p><br />\nIt seems that all we are talking about these days is &quot\;branding.&quot\; The most important brand we will ever build is our own. In this session we will help you understand how your public persona impacts your business and tips and tricks to keep you in the limelight not in the hot seat!</p>\n
LOCATION:Woodneath Library Center
UID:e.211.4680
SEQUENCE:3
DTSTAMP:20260424T025156Z
URL:https://members.nkcbusinesscouncil.com/events/details/branding-201-who-are-you-and-does-it-matter-12-03-2015-4680
END:VEVENT

END:VCALENDAR
