BEGIN:VCALENDAR
VERSION:2.0
PRODID:-//ChamberMaster//Event Calendar 2.0//EN
METHOD:PUBLISH
X-PUBLISHED-TTL:P3D
REFRESH-INTERVAL:P3D
CALSCALE:GREGORIAN
BEGIN:VEVENT
DTSTART:20240419T150000Z
DTEND:20240419T160000Z
X-MICROSOFT-CDO-ALLDAYEVENT:FALSE
SUMMARY:Board of Directors Meeting
DESCRIPTION:Meeting of the North Kansas City Business Council Board of Directors
X-ALT-DESC;FMTTYPE=text/html:Meeting of the North Kansas City Business Council Board of Directors
LOCATION:Life Unlimited 320 Armour Road\, Suite 101
UID:e.211.3821
SEQUENCE:3
DTSTAMP:20260419T182313Z
URL:https://members.nkcbusinesscouncil.com/events/details/board-of-directors-meeting-04-18-2024-3821
END:VEVENT

END:VCALENDAR
