BEGIN:VCALENDAR
VERSION:2.0
PRODID:-//ChamberMaster//Event Calendar 2.0//EN
METHOD:PUBLISH
X-PUBLISHED-TTL:P3D
REFRESH-INTERVAL:P3D
CALSCALE:GREGORIAN
BEGIN:VEVENT
DTSTART:20150912T180000Z
DTEND:20150912T200000Z
X-MICROSOFT-CDO-ALLDAYEVENT:FALSE
SUMMARY:Block Printing Bags
DESCRIPTION:Join Guest Artist/Maker Donna English for an afternoon of block printing. Participants will be printing blocks onto a canvas tote. Donna will walk you through the process of inking a pre-cut block and pulling a print. All supplies are included. Ages 14+
X-ALT-DESC;FMTTYPE=text/html:<span style="color: black\; font-family: &quot\;Arial&quot\;\,&quot\;sans-serif&quot\;\; font-size: 12pt\; mso-fareast-font-family: &quot\;Times New Roman&quot\;\; mso-ansi-language: EN-US\; mso-fareast-language: EN-US\; mso-bidi-language: AR-SA\;">Join Guest Artist/Maker Donna English for an afternoon of block printing. Participants will be printing blocks onto a canvas tote. Donna will walk you through the process of inking a pre-cut block and pulling a print. All supplies are included. Ages 14+&nbsp\;</span>
LOCATION:1329 Swift
UID:e.211.4653
SEQUENCE:3
DTSTAMP:20260424T061725Z
URL:https://members.nkcbusinesscouncil.com/events/details/block-printing-bags-09-12-2015-4653
END:VEVENT

END:VCALENDAR
