BEGIN:VCALENDAR
VERSION:2.0
PRODID:-//ChamberMaster//Event Calendar 2.0//EN
METHOD:PUBLISH
X-PUBLISHED-TTL:P3D
REFRESH-INTERVAL:P3D
CALSCALE:GREGORIAN
BEGIN:VEVENT
DTSTART:20160507T150000Z
DTEND:20160507T210000Z
X-MICROSOFT-CDO-ALLDAYEVENT:FALSE
SUMMARY:Big Brew Day
DESCRIPTION:This is a nationwide celebration among homebrewers.  There will be brewing in our parking lot\, and on our PicoBrew (the new all-electric brewing system).  The American Homebrewers' Association provides two recipes for the day--we'll have grains available for both the Altbier and the Ginger Ale.  Our local homebrew club\, the Missouri Mashers\, will be bringing their equipment--you can come watch and learn.  The brewing will begin at 10 am\, and wind up at 4 pm.  At Noon\, brewers will raise a toast--along with brewers across the US.  We'll be celebrating our 4th Big Brew Day--and it promises to be a good time!
X-ALT-DESC;FMTTYPE=text/html:<strong><span style="font-size: 10.5pt\;"><span style="font-family: arial\,sans-serif\;"><span style="color: rgb(80\, 80\, 80)\;">This is a nationwide celebration among homebrewers. &nbsp\;There will be brewing in our parking lot\, </span></span></span></strong><em><strong><u><span style="font-family: arial\,sans-serif\;"><span style="color: rgb(80\, 80\, 80)\;"><span style="font-size: medium\;">and on our PicoBrew</span></span></span></u></strong></em> <strong><span style="font-size: 10.5pt\;"><span style="font-family: arial\,sans-serif\;"><span style="color: rgb(80\, 80\, 80)\;">(the new all-electric brewing system). &nbsp\;The American Homebrewers&#39\; Association provides two recipes for the day--we&#39\;ll have grains available for both the Altbier and the Ginger Ale. &nbsp\;Our local homebrew club\, the Missouri Mashers\, will be bringing their equipment--you can come watch and learn. &nbsp\;The brewing will begin at 10 am\, and wind up at 4 pm. &nbsp\;At Noon\, brewers will raise a toast--along with brewers across the US. &nbsp\;We&#39\;ll be celebrating our 4th Big Brew Day--and it promises to be a good time!</span></span></span></strong><br />\n&nbsp\;
LOCATION:Grain to Glass 1611 Swift
UID:e.211.4994
SEQUENCE:3
DTSTAMP:20260423T144900Z
URL:https://members.nkcbusinesscouncil.com/events/details/big-brew-day-05-07-2016-4994
END:VEVENT

END:VCALENDAR
