BEGIN:VCALENDAR
VERSION:2.0
PRODID:-//ChamberMaster//Event Calendar 2.0//EN
METHOD:PUBLISH
X-PUBLISHED-TTL:P3D
REFRESH-INTERVAL:P3D
CALSCALE:GREGORIAN
BEGIN:VEVENT
DTSTART:20150722T230000Z
DTEND:20150723T000000Z
X-MICROSOFT-CDO-ALLDAYEVENT:FALSE
SUMMARY:Beer & Cheese Tasting
DESCRIPTION:Beer & Cheese--the best combination!  We've done this before--and would like to show you how to pair beer styles with cheeses including sheep's milk varieties from Green Dirt Farms! You can sample Prairie Tomme (an aged\, Gouda-like cheese) any time at our bar\, but we'll explore a variety on Wednesday\, July 22nd\, 6 PM.
X-ALT-DESC;FMTTYPE=text/html:<span style="color: gold\; font-family: &quot\;Times New Roman&quot\;\,&quot\;serif&quot\;\; font-size: 10.5pt\; mso-fareast-font-family: &quot\;Times New Roman&quot\;\; mso-ansi-language: EN-US\; mso-fareast-language: EN-US\; mso-bidi-language: AR-SA\;">Beer &amp\; Cheese</span><span style="font-family: &quot\;Times New Roman&quot\;\,&quot\;serif&quot\;\; font-size: 10.5pt\; mso-fareast-font-family: &quot\;Times New Roman&quot\;\; mso-ansi-language: EN-US\; mso-fareast-language: EN-US\; mso-bidi-language: AR-SA\;"><font color="#000000">--the best combination! &nbsp\;We&#39\;ve done this before--and would like to show you how to pair beer styles with cheeses including sheep&#39\;s milk varieties from Green Dirt Farms! You can sample Prairie Tomme (an aged\, Gouda-like cheese) any time at our bar\, but we&#39\;ll explore a variety on </font><u><font color="#000000">Wednesday\, July 22nd\, 6 PM.</font></u></span>
LOCATION:Grain to Glass 1611 Swift
UID:e.211.4633
SEQUENCE:3
DTSTAMP:20260424T085224Z
URL:https://members.nkcbusinesscouncil.com/events/details/beer-cheese-tasting-07-22-2015-4633
END:VEVENT

END:VCALENDAR
