BEGIN:VCALENDAR
VERSION:2.0
PRODID:-//ChamberMaster//Event Calendar 2.0//EN
METHOD:PUBLISH
X-PUBLISHED-TTL:P3D
REFRESH-INTERVAL:P3D
CALSCALE:GREGORIAN
BEGIN:VEVENT
DTSTART:20160620T223000Z
DTEND:20160621T000000Z
X-MICROSOFT-CDO-ALLDAYEVENT:FALSE
SUMMARY:Be your own Medical Advocate
DESCRIPTION:Learn how to navigate the healthcare system and be your own medical advocate. Reduce your anxiety and become more empowered to get what you need from your healthcare providers. \n\nTo register\, go online at GildasClubKC.org or call 913.574.0900.
X-ALT-DESC;FMTTYPE=text/html:<span style="color: black\;"><span style="font-size: medium\;"><span style="font-family: calibri\;">Learn how to navigate the healthcare system and be your own medical advocate. Reduce your anxiety and become more empowered to get what you need from your healthcare providers. </span></span></span><br />\n<span style="color: black\;"><span style="font-size: medium\;"><span style="font-family: calibri\;">To register\, go online at GildasClubKC.org or call 913.574.0900.</span></span></span><br />\n&nbsp\;
LOCATION:North Kansas City Hospital\, 1st floor Pavilion\, Burlington Room\, 2790 Clay Edwards Drive
UID:e.211.5126
SEQUENCE:3
DTSTAMP:20260423T112924Z
URL:https://members.nkcbusinesscouncil.com/events/details/be-your-own-medical-advocate-06-20-2016-5126
END:VEVENT

END:VCALENDAR
