BEGIN:VCALENDAR
VERSION:2.0
PRODID:-//ChamberMaster//Event Calendar 2.0//EN
METHOD:PUBLISH
X-PUBLISHED-TTL:P3D
REFRESH-INTERVAL:P3D
CALSCALE:GREGORIAN
BEGIN:VEVENT
DTSTART:20160709T130000Z
DTEND:20160709T180000Z
X-MICROSOFT-CDO-ALLDAYEVENT:FALSE
SUMMARY:BASIC LIFE SUPPORT FOR HEALTHCARE PROVIDERS (BLS)
DESCRIPTION:For healthcare students or professional healthcare providers who work in a medical setting. Course covers CPR for all ages\, choking management and AED use.
X-ALT-DESC;FMTTYPE=text/html:<span style="font-size: medium\;"><span style="font-family: calibri\;">For healthcare students or professional healthcare providers who work in a medical setting. Course covers CPR for all ages\, choking management and AED use.</span></span><br />\n<br />\n<br />\n&nbsp\;
LOCATION:North Kansas City Hospital\, 1st floor Pavilion\, 2790 Clay Edwards Drive
UID:e.211.5140
SEQUENCE:3
DTSTAMP:20260423T073136Z
URL:https://members.nkcbusinesscouncil.com/events/details/basic-life-support-for-healthcare-providers-bls-07-09-2016-5140
END:VEVENT

END:VCALENDAR
