BEGIN:VCALENDAR
VERSION:2.0
PRODID:-//ChamberMaster//Event Calendar 2.0//EN
METHOD:PUBLISH
X-PUBLISHED-TTL:P3D
REFRESH-INTERVAL:P3D
CALSCALE:GREGORIAN
BEGIN:VEVENT
DTSTART:20160714T230000Z
DTEND:20160715T000000Z
X-MICROSOFT-CDO-ALLDAYEVENT:FALSE
SUMMARY:Bariatric Seminars
DESCRIPTION:Keenan Berghoff\, MD\, who has performed more than 500 bariatric procedures\, helps determine if bariatric surgery is right for you.
X-ALT-DESC;FMTTYPE=text/html:<span style="font-size: medium\;"><span style="font-family: calibri\;">Keenan Berghoff\, MD\, who has performed more than 500 bariatric procedures\, helps determine if bariatric surgery is right for you.</span></span><br />\n&nbsp\;
LOCATION:North Kansas City Hospital\, 1st floor Pavilion\, 2790 Clay Edwards Drive
UID:e.211.5133
SEQUENCE:3
DTSTAMP:20260423T072712Z
URL:https://members.nkcbusinesscouncil.com/events/details/bariatric-seminars-07-14-2016-5133
END:VEVENT

END:VCALENDAR
