BEGIN:VCALENDAR
VERSION:2.0
PRODID:-//ChamberMaster//Event Calendar 2.0//EN
METHOD:PUBLISH
X-PUBLISHED-TTL:P3D
REFRESH-INTERVAL:P3D
CALSCALE:GREGORIAN
BEGIN:VEVENT
DTSTART:20170227T230000Z
DTEND:20170228T013000Z
X-MICROSOFT-CDO-ALLDAYEVENT:FALSE
SUMMARY:B-T-B Bowling Challenge
DESCRIPTION:The North Kansas City Business Council is sponsoring a Business Team Bowling event Monday\, February 27th. Teams of four will compete with other North Kansas City business teams to see who can get the largest pin total. Does your business have either enthusiastic bowlers waiting for a challenge\, or just deserving employees who might enjoy the event? The event will begin with food at 5:00 p.m. and a two-game tournament beginning at 5:30 p.m. Winners will be announced at 7:30 p.m. The team cost includes food and soft drinks\, rental of shoes and ball\, and two games of bowling. Alcoholic beverages are available for purchase.\n\nAMF ProBowl is a smoke-free facility.\n\n \n\nEarly bird fee (by February 13th) - $120 for a team of four.\n\nLate registration fee (by February 22nd) - $140 for a team of four\n\n \n\nOnly 28 lanes are available so NOW would be a great time to form a team and sign up for this event.\n\nContact Jennifer@nkcbusinesscouncil.com or 472-7700 to indicate your interest and/or to get more information. The deadline for team entry is Wednesday\, February 22nd.
X-ALT-DESC;FMTTYPE=text/html:<span style="font-size: 14pt\;"><span style="font-family: calibri\;">The North Kansas City Business Council is sponsoring a Business Team Bowling event Monday\, February 27th. Teams of four will compete with other North Kansas City business teams to see who can get the largest pin total. Does your business have either enthusiastic bowlers waiting for a challenge\, or just deserving employees who might enjoy the event? The event will begin with food at 5:00 p.m. and a two-game tournament beginning at 5:30 p.m. Winners will be announced at 7:30 p.m. The team cost includes food and soft drinks\, rental of shoes and ball\, and two games of bowling. Alcoholic beverages are available for purchase.<br>\n<span style="color: rgb(255\, 0\, 0)\;">AMF ProBowl is a smoke-free facility.</span></span></span><br>\n&nbsp\;<br>\n<strong><span style="font-size: 14pt\;"><span style="font-family: calibri\;">Early bird fee (by February 13th) - $120 for a team of four.</span></span><br>\n<span style="font-size: 14pt\;"><span style="font-family: calibri\;">Late registration fee (by February 22nd) - $140 for a team of four</span></span></strong><br>\n&nbsp\;<br>\n<span style="font-size: 14pt\;"><span style="font-family: calibri\;">Only 28 lanes are available so NOW would be a great time to form a team and sign up for this event.<br>\nContact </span><a href="mailto:Jennifer@nkcbusinesscouncil.com"><span style="font-family: calibri\;"><span style="color: rgb(0\, 0\, 255)\;">Jennifer@nkcbusinesscouncil.com</span></span></a><span style="font-family: calibri\;"> or 472-7700 to indicate your interest and/or to get more information. The deadline for team entry is Wednesday\, February 22nd.</span></span><br>\n&nbsp\;<br>\n&nbsp\;<br>\n&nbsp\;
LOCATION:North Kansas City AMF ProBowl Lanes 505 E 18th Ave
UID:e.211.5322
SEQUENCE:3
DTSTAMP:20260422T033330Z
URL:https://members.nkcbusinesscouncil.com/events/details/b-t-b-bowling-challenge-5322
END:VEVENT

END:VCALENDAR
