BEGIN:VCALENDAR
VERSION:2.0
PRODID:-//ChamberMaster//Event Calendar 2.0//EN
METHOD:PUBLISH
X-PUBLISHED-TTL:P3D
REFRESH-INTERVAL:P3D
CALSCALE:GREGORIAN
BEGIN:VEVENT
DTSTART:20130919T170000Z
DTEND:20130919T213000Z
X-MICROSOFT-CDO-ALLDAYEVENT:FALSE
SUMMARY:ATK Employer Fair
DESCRIPTION:ATK Small Caliber Systems (SCS) will be reducing its staffing levels on October 1\, 2013 due to contract changes and operational needs.  One of ATK's planned activities will be to assist employees with identifying potential employment opportunities by hosting an employer fair at their facility on September 19\, 2013.  Check-in will be 12:00 pm (lunch included)\; Employer Fair will be 1:30   4:30 pm.\n\n \n\nEmployers with production\, distribution or salaried employment opportunities with wages of $13-14/hr and up are invited to participate in ATK's Employer Fair.  Space will limit the event to up to 20 qualifying employers.  \n\n \n\nATK SCS has extremely skilled and capable employees who have demonstrated the ability to consistently deliver outstanding results.  These employees have training and expertise in safety systems\, quality\, manufacturing practices\, team development\, metrics\, and leadership.  They understand\, measure\, and deliver results through team collaboration\, lean manufacturing\, problem-solving\, creativity\, safety and environmental disciplines.  Employees scheduled to be laid off have worked in the following functional areas:  Operations\, Warehouse\, Mission Assurance\, Programs\, Engineering\, and Project Management.  Additional company-specific training could be addressed using Full Employment Council's On-the-Job Training program.
X-ALT-DESC;FMTTYPE=text/html:<strong><em>ATK Small Caliber Systems (SCS)</em></strong> will be reducing its staffing levels on October 1\, 2013 due to contract changes and operational needs.&nbsp\; One of ATK&rsquo\;s planned activities will be to assist employees with identifying potential employment opportunities by hosting an employer fair at their facility on September 19\, 2013.&nbsp\; <em>Check-in will be 12:00 pm (lunch included)\; Employer Fair will be 1:30 &ndash\; 4:30 pm.</em><br />\n&nbsp\;<br />\n<strong>Employers with production\, distribution or salaried employment opportunities with wages of $13-14/hr and up are invited to participate in ATK&rsquo\;s Employer Fair.</strong> &nbsp\;Space will limit the event to up to 20 qualifying employers. &nbsp\;<br />\n&nbsp\;<br />\nATK SCS has extremely skilled and capable employees who have demonstrated the ability to consistently deliver outstanding results.&nbsp\; These employees have training and expertise in safety systems\, quality\, manufacturing practices\, team development\, metrics\, and leadership.&nbsp\; They understand\, measure\, and deliver results through team collaboration\, lean manufacturing\, problem-solving\, creativity\, safety and environmental disciplines.&nbsp\; Employees scheduled to be laid off have worked in the following functional areas<strong>:&nbsp\; </strong>Operations\, Warehouse\, Mission Assurance\, Programs\, Engineering\, and Project Management.&nbsp\; <em>Additional company-specific training could be addressed using Full Employment Council&rsquo\;s On-the-Job Training program.</em>
LOCATION:Lake City Army Ammunition Plant Independence\, Missouri 64051
UID:e.211.3548
SEQUENCE:3
DTSTAMP:20260425T140314Z
URL:https://members.nkcbusinesscouncil.com/events/details/atk-employer-fair-09-19-2013-3548
END:VEVENT

END:VCALENDAR
