BEGIN:VCALENDAR
VERSION:2.0
PRODID:-//ChamberMaster//Event Calendar 2.0//EN
METHOD:PUBLISH
X-PUBLISHED-TTL:P3D
REFRESH-INTERVAL:P3D
CALSCALE:GREGORIAN
BEGIN:VEVENT
DTSTART:20140823T203000Z
DTEND:20140824T040000Z
X-MICROSOFT-CDO-ALLDAYEVENT:FALSE
SUMMARY:Arts & Crafts Festival @ Screenland Armour
DESCRIPTION:Screenland Armour's Arts and Crafts Festival Presented by 96.5 The Buzz and The Pitch DAY 2\n\n\n\nSaturday Features 100+ Craft beers\, featuring 6 beers made just for the event\, extremely rare\, and many breweries first KC brewfest!)\n\n3:30 CRAFT Documentary\n\n4:30 Craft Beer Q&A\n\n5:00 Short Film Competition\n\n5:30 Beer Festival Begins\n\nBand Schedule\n\n5:30 Deco Auto\n\n6:15 Various Blonde\n\n7:00 Schwervon!\n\n7:45 Now Now Sleepy Head\n\n9:00 The American Life\n\n9:30 Beer Festival Ends\n\n10:00 Movies Begin (Frank or Stop Making Sense)
X-ALT-DESC;FMTTYPE=text/html:<span class="fsl">Screenland Armour&#39\;s Arts and Crafts Festival Presented by 96.5 The Buzz and The Pitch DAY 2<br />\n<br />\nSaturday Features 100+ Craft beers\, featuring 6 beers made just for the event\, extremely rare\, and many breweries first KC brewfest!)<br />\n3:30 CRAFT Documentary<br />\n4:30 Craft Beer Q&amp\;A<br />\n<span class="text_exposed_show">5:00 Short Film Competition<br />\n5:30 Beer Festival Begins<br />\nBand Schedule<br />\n5:30 Deco Auto<br />\n6:15 Various Blonde<br />\n7:00 Schwervon!<br />\n7:45 Now Now Sleepy Head<br />\n9:00 The American Life<br />\n9:30 Beer Festival Ends<br />\n10:00 Movies Begin (Frank or Stop Making Sense)</span></span>
LOCATION:Screenland Armour Theatre 408 Armour Road
UID:e.211.4253
SEQUENCE:3
DTSTAMP:20260424T230339Z
URL:https://members.nkcbusinesscouncil.com/events/details/arts-crafts-festival-screenland-armour-08-23-2014-4253
END:VEVENT

END:VCALENDAR
