BEGIN:VCALENDAR
VERSION:2.0
PRODID:-//ChamberMaster//Event Calendar 2.0//EN
METHOD:PUBLISH
X-PUBLISHED-TTL:P3D
REFRESH-INTERVAL:P3D
CALSCALE:GREGORIAN
BEGIN:VEVENT
DTSTART:20140822T230000Z
DTEND:20140823T040000Z
X-MICROSOFT-CDO-ALLDAYEVENT:FALSE
SUMMARY:Arts & Crafts Festival @ Screenland Armour
DESCRIPTION:Screenland Armour's Arts and Crafts Festival Presented by 96.5 The Buzz and The Pitch DAY 1\n\n\n\nFriday\n\n(Includes TWO local pints of beers from Cinder Block\, Big Rip\, Rock and Run\, KC Bier Company\, Crane Brewing and special tappings from Boulevard\, Mother's\, Southern Tier and more!)\n\n6:00 Doors Open\n\n6:30 Happy Christmas or Life After Beth\n\n8:15 Coherence and Stop Making Sense\n\nMusic Schedule\n\n10:00 Jim West\n\n10:45 Patrick Woolam\n\n11:30 La Guerre
X-ALT-DESC;FMTTYPE=text/html:<span class="fsl">Screenland Armour&#39\;s Arts and Crafts Festival Presented by 96.5 The Buzz and The Pitch DAY 1<br />\n<br />\nFriday<br />\n(Includes TWO local pints of beers from Cinder Block\, Big Rip\, Rock and Run\, KC Bier Company\, Crane Brewing and special tappings from Boulevard\, Mother&#39\;s\, Southern Tier and more!)<br />\n6:00 Doors Open<br />\n<span class="text_exposed_show">6:30 Happy Christmas or Life After Beth<br />\n8:15 Coherence and Stop Making Sense<br />\nMusic Schedule<br />\n10:00 Jim West<br />\n10:45 Patrick Woolam<br />\n11:30 <a data-hovercard="/ajax/hovercard/page.php?id=160445143992169" href="https://www.facebook.com/laguerremusic">La Guerre</a></span></span>
LOCATION:Screenland Armour Theatre 408 Armour Road
UID:e.211.4252
SEQUENCE:3
DTSTAMP:20260424T230312Z
URL:https://members.nkcbusinesscouncil.com/events/details/arts-crafts-festival-screenland-armour-08-22-2014-4252
END:VEVENT

END:VCALENDAR
