BEGIN:VCALENDAR
VERSION:2.0
PRODID:-//ChamberMaster//Event Calendar 2.0//EN
METHOD:PUBLISH
X-PUBLISHED-TTL:P3D
REFRESH-INTERVAL:P3D
CALSCALE:GREGORIAN
BEGIN:VEVENT
DTSTART:20160205T160000Z
DTEND:20160206T013000Z
X-MICROSOFT-CDO-ALLDAYEVENT:FALSE
SUMMARY:Art Journal First Friday - Dare to Dabble
DESCRIPTION:oin us for our very First First Friday Art Journal Page Prompt in Open Studio. Art Journals are a labor of love. They take time and dedication to complete them. Every First Friday in Open Studio we will have a special project available that will make a great addition for your journal. Come play with a ton of Art Journal Supplies and have access to our paper wall! The first hour in studio is free\, after that regular studio fees apply to Art Journal Projects. Supplies will be available from 10-7:30 every First Friday.
X-ALT-DESC;FMTTYPE=text/html:<span style="font-family: arial\,sans-serif\;"><span style="color: black\;"><span style="font-size: medium\;">oin us for our very First First Friday Art Journal Page Prompt in Open Studio. Art Journals are a labor of love. They take time and dedication to complete them. Every First Friday in Open Studio we will have a special project available that will make a great addition for your journal. Come play with a ton of Art Journal Supplies and have access to our paper wall! The first hour in studio is free\, after that regular studio fees apply to Art Journal Projects. Supplies will be available from 10-7:30 every First Friday.</span></span></span><br />\n&nbsp\;
LOCATION:1329 Swift
UID:e.211.4833
SEQUENCE:3
DTSTAMP:20260424T001006Z
URL:https://members.nkcbusinesscouncil.com/events/details/art-journal-first-friday-dare-to-dabble-02-05-2016-4833
END:VEVENT

END:VCALENDAR
