BEGIN:VCALENDAR
VERSION:2.0
PRODID:-//ChamberMaster//Event Calendar 2.0//EN
METHOD:PUBLISH
X-PUBLISHED-TTL:P3D
REFRESH-INTERVAL:P3D
CALSCALE:GREGORIAN
BEGIN:VEVENT
DTSTART:20160128T220000Z
DTEND:20160128T230000Z
X-MICROSOFT-CDO-ALLDAYEVENT:FALSE
SUMMARY:Art Club - Dare to Dabble
DESCRIPTION:7 yrs + \n\nUnleash your creativity at Dare to Dabble! Young artist ages 7 and up will dabble in a variety of art mediums with projects that explore art principles and elements of design. We provide all the supplies in an inspiring art studio environment. Art club projects emphasize process not a product.
X-ALT-DESC;FMTTYPE=text/html:<span style="font-size: 11pt\;"><span style="font-family: arial\,sans-serif\;"><span style="color: black\;">7&nbsp\;yrs +&nbsp\;</span></span></span><br />\n<span style="font-size: medium\;"><span style="font-family: arial\,sans-serif\;"><span style="color: black\;">Unleash your creativity at Dare to Dabble! Young artist ages 7 and up will dabble in a variety of art mediums with projects that explore art principles and elements of design. We provide all the supplies in an inspiring art studio environment. Art club projects emphasize process not a product.</span></span></span><br />\n<br />\n<br />\n&nbsp\;
LOCATION:Dare to Dabble 1329 Swift North Kansas City\, MO 64116
UID:e.211.4683
SEQUENCE:3
DTSTAMP:20260424T013948Z
URL:https://members.nkcbusinesscouncil.com/events/details/art-club-dare-to-dabble-01-28-2016-4683
END:VEVENT

END:VCALENDAR
