BEGIN:VCALENDAR
VERSION:2.0
PRODID:-//ChamberMaster//Event Calendar 2.0//EN
METHOD:PUBLISH
X-PUBLISHED-TTL:P3D
REFRESH-INTERVAL:P3D
CALSCALE:GREGORIAN
BEGIN:VEVENT
DTSTART:20160428T224500Z
DTEND:20160428T234500Z
X-MICROSOFT-CDO-ALLDAYEVENT:FALSE
SUMMARY:ALL ABOARD! MOVING ONWARD AND UPWARD
DESCRIPTION:Hop aboard the health\, happiness and freedom train. Live a better life by learning how to control your diabetes.
X-ALT-DESC;FMTTYPE=text/html:<span style="font-size: medium\;"><span style="font-family: calibri\;">Hop aboard the health\, happiness and freedom train. Live a better life by learning how to control your diabetes.</span></span><br />\n<br />\n<br />\n&nbsp\;
LOCATION:North Kansas City Hospital\, 1st floor Pavilion\, 2790 Clay Edwards Drive
UID:e.211.5067
SEQUENCE:3
DTSTAMP:20260423T175846Z
URL:https://members.nkcbusinesscouncil.com/events/details/all-aboard-moving-onward-and-upward-04-28-2016-5067
END:VEVENT

END:VCALENDAR
