BEGIN:VCALENDAR
VERSION:2.0
PRODID:-//ChamberMaster//Event Calendar 2.0//EN
METHOD:PUBLISH
X-PUBLISHED-TTL:P3D
REFRESH-INTERVAL:P3D
CALSCALE:GREGORIAN
BEGIN:VEVENT
DTSTART:20160423T220000Z
DTEND:20160424T010000Z
X-MICROSOFT-CDO-ALLDAYEVENT:FALSE
SUMMARY:Alcohol Ink Mosaic Dragonfly
DESCRIPTION:Alcohol Inks & Mosaic are combined to create this beautiful dragonfly. Play with Alcohol inks on yupo paper\, then learn to mosaic with glass. Class includes three hours of design time. You will need an additional visit for grouting once tiles dry.
X-ALT-DESC;FMTTYPE=text/html:<span style="font-family: arial\,sans-serif\;"><span style="color: black\;"><span style="font-size: medium\;">Alcohol Inks &amp\; Mosaic are combined to create this beautiful dragonfly. Play with Alcohol inks on yupo paper\, then learn to mosaic with glass. Class includes three hours of design time. You will need an additional visit for grouting once tiles dry.</span></span></span><br />\n&nbsp\;
LOCATION:Dare to Dabble 1329 Swift
UID:e.211.4998
SEQUENCE:3
DTSTAMP:20260423T210255Z
URL:https://members.nkcbusinesscouncil.com/events/details/alcohol-ink-mosaic-dragonfly-04-23-2016-4998
END:VEVENT

END:VCALENDAR
