BEGIN:VCALENDAR
VERSION:2.0
PRODID:-//ChamberMaster//Event Calendar 2.0//EN
METHOD:PUBLISH
X-PUBLISHED-TTL:P3D
REFRESH-INTERVAL:P3D
CALSCALE:GREGORIAN
BEGIN:VEVENT
DTSTART:20160213T203000Z
DTEND:20160213T223000Z
X-MICROSOFT-CDO-ALLDAYEVENT:FALSE
SUMMARY:Alcohol Ink Jewelry - Dare to Dabble
DESCRIPTION:Wrapped with love - Create a unique heart pin or pendant by wrapping colorful ribbon yarn and adorn it with beads and charms. Or you can choose to make a rainbow critter such as a gecko\, snake or frog. You will also be able to make a mixed media card to display and gift your pin for Valentines Day!
X-ALT-DESC;FMTTYPE=text/html:<span style="font: 14px/22px SQMarket-regular\, &quot\;Helvetica Neue&quot\;\, sans-serif\; text-transform: none\; text-indent: 0px\; letter-spacing: normal\; word-spacing: 0px\; float: none\; display: inline !important\; white-space: normal\; widows: 1\; font-size-adjust: none\; font-stretch: normal\; background-color: rgb(255\, 255\, 255)\; -webkit-text-stroke-color: rgba(0\, 0\, 0\, 0)\; -webkit-text-stroke-width: 1px\;">Wrapped with love - Create a unique heart pin or pendant by wrapping colorful ribbon yarn and adorn it with beads and charms. Or you can choose to make a rainbow critter such as a gecko\, snake or frog. You will also be able to make a mixed media card to display and gift your pin for Valentines Day!</span>
LOCATION:Dare to Dabble 1329 Swift
UID:e.211.4844
SEQUENCE:3
DTSTAMP:20260424T001852Z
URL:https://members.nkcbusinesscouncil.com/events/details/alcohol-ink-jewelry-dare-to-dabble-02-13-2016-4844
END:VEVENT

END:VCALENDAR
