BEGIN:VCALENDAR
VERSION:2.0
PRODID:-//ChamberMaster//Event Calendar 2.0//EN
METHOD:PUBLISH
X-PUBLISHED-TTL:P3D
REFRESH-INTERVAL:P3D
CALSCALE:GREGORIAN
BEGIN:VEVENT
DTSTART:20160210T190000Z
DTEND:20160210T210000Z
X-MICROSOFT-CDO-ALLDAYEVENT:FALSE
SUMMARY:Alcohol Ink Jewelry - Dare to Dabble
DESCRIPTION:These little bottles of ink are really fun and have loads of amazing applications. In this "I can do that" class we will explore alcohol ink on a domino. We'll show you how to add texture with stamps and embellish your work to create a stunning pendant.Dare to Dabble is Kansas City's teaching arts studio where jewelry making is just one of many creative mediums available in open studio.
X-ALT-DESC;FMTTYPE=text/html:<span style="font: 14px/22px SQMarket-regular\, &quot\;Helvetica Neue&quot\;\, sans-serif\; text-transform: none\; text-indent: 0px\; letter-spacing: normal\; word-spacing: 0px\; float: none\; display: inline !important\; white-space: normal\; widows: 1\; font-size-adjust: none\; font-stretch: normal\; background-color: rgb(255\, 255\, 255)\; -webkit-text-stroke-color: rgba(0\, 0\, 0\, 0)\; -webkit-text-stroke-width: 1px\;">These little bottles of ink are really fun and have loads of amazing applications. In this &ldquo\;I can do that&rdquo\; class we will explore alcohol ink on a domino. We&#39\;ll show you how to add texture with stamps and embellish your work to create a stunning pendant.Dare to Dabble is Kansas City&#39\;s teaching arts studio where jewelry making is just one of many creative mediums available in open studio.</span>
LOCATION:Dare to Dabble 1329 Swift
UID:e.211.4839
SEQUENCE:3
DTSTAMP:20260424T001851Z
URL:https://members.nkcbusinesscouncil.com/events/details/alcohol-ink-jewelry-dare-to-dabble-02-10-2016-4839
END:VEVENT

END:VCALENDAR
