BEGIN:VCALENDAR
VERSION:2.0
PRODID:-//ChamberMaster//Event Calendar 2.0//EN
METHOD:PUBLISH
X-PUBLISHED-TTL:P3D
REFRESH-INTERVAL:P3D
CALSCALE:GREGORIAN
BEGIN:VEVENT
DTSTART:20150904T190000Z
DTEND:20150904T210000Z
X-MICROSOFT-CDO-ALLDAYEVENT:FALSE
SUMMARY:Alcohol Ink Dreamscape
DESCRIPTION:Learn the surprising art you can create with alcohol inks! Sheryl Godsy - Dare to Dabble Creative Coach\, will walk you through the steps of making a dream scape scene with inks. We'll provide the ambiance to inspire your creativity\, the supplies and a couple hours of relaxing Dare to Dabble art experience! Best of all\, at the end of this class you will have a finished dreamscape tile to take home and brag about.
X-ALT-DESC;FMTTYPE=text/html:<span style="color: black\; font-family: &quot\;Arial&quot\;\,&quot\;sans-serif&quot\;\; font-size: 12pt\; mso-fareast-font-family: &quot\;Times New Roman&quot\;\; mso-ansi-language: EN-US\; mso-fareast-language: EN-US\; mso-bidi-language: AR-SA\;">Learn the surprising art you can create with alcohol inks! Sheryl Godsy - Dare to Dabble Creative Coach\, will walk you through the steps of making a dream scape scene with inks. We&#39\;ll provide the ambiance to inspire your creativity\, the supplies and a couple hours of relaxing Dare to Dabble art experience! Best of all\, at the end of this class you will have a finished dreamscape tile to take home and brag about.</span>
LOCATION:1329 Swift
UID:e.211.4648
SEQUENCE:3
DTSTAMP:20260424T071622Z
URL:https://members.nkcbusinesscouncil.com/events/details/alcohol-ink-dreamscape-09-04-2015-4648
END:VEVENT

END:VCALENDAR
