BEGIN:VCALENDAR
VERSION:2.0
PRODID:-//ChamberMaster//Event Calendar 2.0//EN
METHOD:PUBLISH
X-PUBLISHED-TTL:P3D
REFRESH-INTERVAL:P3D
CALSCALE:GREGORIAN
BEGIN:VEVENT
DTSTART:20150715T213000Z
DTEND:20150715T230000Z
X-MICROSOFT-CDO-ALLDAYEVENT:FALSE
SUMMARY:After Hours
DESCRIPTION:We will be welcoming Dare to Dabble/Luna Coffeehouse to North Kansas City with an After Hours and Ribbon Cutting on Wednesday\, July 15th.
X-ALT-DESC;FMTTYPE=text/html:We will be welcoming&nbsp\;Dare to Dabble/Luna Coffeehouse&nbsp\;to North Kansas City with an After Hours and Ribbon Cutting on Wednesday\, July 15th.
LOCATION:Dare to Dabble/Luna Coffeehouse 1329 Swift
UID:e.211.4621
SEQUENCE:3
DTSTAMP:20260424T083031Z
URL:https://members.nkcbusinesscouncil.com/events/details/after-hours-07-15-2015-4621
END:VEVENT

END:VCALENDAR
