BEGIN:VCALENDAR
VERSION:2.0
PRODID:-//ChamberMaster//Event Calendar 2.0//EN
METHOD:PUBLISH
X-PUBLISHED-TTL:P3D
REFRESH-INTERVAL:P3D
CALSCALE:GREGORIAN
BEGIN:VEVENT
DTSTART:20150617T213000Z
DTEND:20150617T230000Z
X-MICROSOFT-CDO-ALLDAYEVENT:FALSE
SUMMARY:After Hours
DESCRIPTION:We will be welcoming Grain to Glass to North Kansas City with an After Hours and Ribbon Cutting on Wednesday\, June 17th.
X-ALT-DESC;FMTTYPE=text/html:We will be welcoming Grain to Glass to North Kansas City with an After Hours and Ribbon Cutting on Wednesday\, June 17th.
LOCATION:Grain to Glass 1611 Swift
UID:e.211.4617
SEQUENCE:3
DTSTAMP:20260424T094421Z
URL:https://members.nkcbusinesscouncil.com/events/details/after-hours-06-17-2015-4617
END:VEVENT

END:VCALENDAR
