BEGIN:VCALENDAR
VERSION:2.0
PRODID:-//ChamberMaster//Event Calendar 2.0//EN
METHOD:PUBLISH
X-PUBLISHED-TTL:P3D
REFRESH-INTERVAL:P3D
CALSCALE:GREGORIAN
BEGIN:VEVENT
DTSTART:20130813T200000Z
DTEND:20130813T220000Z
X-MICROSOFT-CDO-ALLDAYEVENT:FALSE
SUMMARY:Affordable Care Act Seminar
DESCRIPTION:Health Care Reform is coming:\n\nAre you Ready?\n\n\n\nKrueger & James Insurance is sponsoring an information session on the new Health Care Reform and how it will be affecting you personally and as a business owner.\n\nCome by and learn more.
X-ALT-DESC;FMTTYPE=text/html:Health Care Reform is coming:<br />\nAre you Ready?<br />\n<br />\nKrueger &amp\; James Insurance is sponsoring an information session on the new Health Care Reform and how it will be affecting you personally and as a business owner.<br />\nCome by and learn more.
LOCATION:Harrah's Tahoe Room One Riverboat Drive NKC\, MO 64116
UID:e.211.3536
SEQUENCE:3
DTSTAMP:20260425T152526Z
URL:https://members.nkcbusinesscouncil.com/events/details/affordable-care-act-seminar-08-13-2013-3536
END:VEVENT

END:VCALENDAR
