BEGIN:VCALENDAR
VERSION:2.0
PRODID:-//ChamberMaster//Event Calendar 2.0//EN
METHOD:PUBLISH
X-PUBLISHED-TTL:P3D
REFRESH-INTERVAL:P3D
CALSCALE:GREGORIAN
BEGIN:VEVENT
DTSTART:20160629T223000Z
DTEND:20160630T020000Z
X-MICROSOFT-CDO-ALLDAYEVENT:FALSE
SUMMARY:ADULT/CHILD/INFANT CPR
DESCRIPTION:Recommended for child care providers\, foster parents or individuals seeking pediatric CPR training. Class includes adult\, child and infant CPR\, choking management and AED training.
X-ALT-DESC;FMTTYPE=text/html:<span style="font-size: medium\;"><span style="font-family: calibri\;">Recommended for child care providers\, foster parents or individuals seeking pediatric CPR training. Class includes adult\, child and infant CPR\, choking management and AED training.</span></span><br />\n<br />\n&nbsp\;
LOCATION:North Kansas City Hospital\, 1st floor Pavilion\, 2790 Clay Edwards Drive
UID:e.211.5129
SEQUENCE:3
DTSTAMP:20260423T112647Z
URL:https://members.nkcbusinesscouncil.com/events/details/adult-child-infant-cpr-06-29-2016-5129
END:VEVENT

END:VCALENDAR
