BEGIN:VCALENDAR
VERSION:2.0
PRODID:-//ChamberMaster//Event Calendar 2.0//EN
METHOD:PUBLISH
X-PUBLISHED-TTL:P3D
REFRESH-INTERVAL:P3D
CALSCALE:GREGORIAN
BEGIN:VEVENT
DTSTART:20160511T150000Z
DTEND:20160511T200000Z
X-MICROSOFT-CDO-ALLDAYEVENT:FALSE
SUMMARY:AARP Smart Driver Course
DESCRIPTION:North Kansas City Hospital\, 1st floor Pavilion\, North Oak Room\, 2790 Clay Edwards Drive\n\nAARP offers the nation's first and largest refresher course designed for older drivers. Learn defensive driving techniques\, safe vehicle operation\, and how to adjust to age-related changes in vision\, hearing and reaction time. Per state regulations\, most course participants receive a multiyear insurance discount after completion of the course. \n\n$15/person for members \n\n$20/person for nonmembers\n\nTo register\, go online at nkch.org or call 816-691-1690.
X-ALT-DESC;FMTTYPE=text/html:<span style="font-size: medium\;"><span style="font-family: calibri\;">North Kansas City Hospital\, 1st floor Pavilion\, North Oak Room\, 2790 Clay Edwards Drive</span></span><br />\n<span style="color: black\;"><span style="font-size: medium\;"><span style="font-family: calibri\;">AARP offers the nation&rsquo\;s first and largest refresher course designed for older drivers. Learn defensive driving techniques\, safe vehicle operation\, and how to adjust to age-related changes in vision\, hearing and reaction time. Per state regulations\, most course participants receive a multiyear insurance discount after completion of the course. </span></span></span><br />\n<span style="color: black\;"><span style="font-size: medium\;"><span style="font-family: calibri\;">$15/person for members </span></span></span><br />\n<span style="color: black\;"><span style="font-size: medium\;"><span style="font-family: calibri\;">$20/person for nonmembers</span></span></span><br />\n<span style="color: black\;"><span style="font-size: medium\;"><span style="font-family: calibri\;">To register\, go online at nkch.org or call 816-691-1690.</span></span></span><br />\n&nbsp\;
LOCATION:North Kansas City Hospital\, 1st floor Pavilion\, North Oak Room\, 2790 Clay Edwards Drive
UID:e.211.5004
SEQUENCE:3
DTSTAMP:20260423T142604Z
URL:https://members.nkcbusinesscouncil.com/events/details/aarp-smart-driver-course-05-11-2016-5004
END:VEVENT

END:VCALENDAR
