BEGIN:VCALENDAR
VERSION:2.0
PRODID:-//ChamberMaster//Event Calendar 2.0//EN
METHOD:PUBLISH
X-PUBLISHED-TTL:P3D
REFRESH-INTERVAL:P3D
CALSCALE:GREGORIAN
BEGIN:VEVENT
DTSTART:20130427T140000Z
DTEND:20130427T210000Z
X-MICROSOFT-CDO-ALLDAYEVENT:FALSE
SUMMARY:A Day of Pastels
DESCRIPTION:Join us for an intensive day of pastels\, led and taught by Holly Ann Schenk. Schenk was a Hallmark Art Director for 12 years\; she has taught art to all age groups (public and private) and currently teaches continuing education and graduate studies for the Kansas City Art Institute (KCAI.) She is an active\, award-winning exhibiting painter and a member of the Greater Kansas City Arts Commission's \n	\n		Now Showing\, program. \n	\n		This class will cover everything from choices of materials and techniques to plein air and working from photos.
X-ALT-DESC;FMTTYPE=text/html:<div style="color: gray\;">\n	<p>\n		&nbsp\;</p>\n	<p>\n		<span style="color: rgb(0\, 0\, 0)\;"><font size="3">Join us for an intensive day of pastels\, led and taught by Holly Ann Schenk. Schenk was a Hallmark Art Director for 12 years\; she has taught art to all age groups (public and private) and currently teaches continuing education and graduate studies for the Kansas City Art Institute (KCAI.) She is an active\, award-winning exhibiting painter and a member of the Greater Kansas City Arts Commission&rsquo\;s </font></span></p>\n	<p>\n		<span style="color: rgb(0\, 0\, 0)\;"><i><font face="Symphony\,Symphony" size="3"><font face="Symphony\,Symphony" size="3">Now Showing\, </font></font></i><font size="3">program. </font></span></p>\n	<p>\n		<span style="color: rgb(0\, 0\, 0)\;"><font size="3">This class will cover everything from choices of materials and techniques to plein air and working from photos. </font></span></p>\n</div>\n
LOCATION:Martha Lafite Thompson Nature Sanctuary 407 N La Frenz Rd Liberty\, MO 64068
UID:e.211.3522
SEQUENCE:3
DTSTAMP:20260425T211834Z
URL:https://members.nkcbusinesscouncil.com/events/details/a-day-of-pastels-04-27-2013-3522
END:VEVENT

END:VCALENDAR
