BEGIN:VCALENDAR
VERSION:2.0
PRODID:-//ChamberMaster//Event Calendar 2.0//EN
METHOD:PUBLISH
X-PUBLISHED-TTL:P3D
REFRESH-INTERVAL:P3D
CALSCALE:GREGORIAN
BEGIN:VEVENT
DTSTART:20130407T233000Z
DTEND:20130408T020000Z
X-MICROSOFT-CDO-ALLDAYEVENT:FALSE
SUMMARY:8th Annual Wine Tasting Event
DESCRIPTION:The 8th annual "In the Shade of the Vine" benefiting\n	\n		Concerned Care\, Inc. will take place on Sunday\, April 7th in the Grove (Marshall's building) at Zona Rosa from 6:30 to 9:00 p.m.\n	\n		 \n	\n		Guests will enjoy sampling wines from over a dozen Missouri vineyards\, a brew pub and food from a variety of area restaurants. \n	\n		 \n	\n		A silent auction will feature restaurant certificates\, food & wine related items.\n	\n		 \n	\n		Major sponsors include Zona Rosa\, Gomer's Northland and Heart of America Catering at KCI Expo Center. \n	\n		 \n	\n		Reservations are necessary and ticket price is $50.00 per person. For additional information contact Carolyn Henry\, 816.474.3026\, Ext. 103.\n	\n		 \n	\n		Since 1972 Concerned Care\, Inc. has provided residential support services to\n	\n		Clay County residents with developmental disabilities. Residential services\n	\n		include Group Homes\, Individualized Supported Living and Apartment \n	\n		Programs. The Recreation Program serves over 500 youth and adults with\n	\n		a variety of sports activities and summer camps. Both programs are designed\n	\n		to help those with Developmental Disabilities lead more independent lives\n	\n		and enjoy community inclusion.
X-ALT-DESC;FMTTYPE=text/html:<div style="color: gray\;">\n	<p style="margin: 0in 0in 0pt\; font-size: 20pt\;">\n		<span face="Times New Roman" style="color: rgb(0\, 0\, 0)\; font-family: Times New Roman\; font-size: 12pt\;">The 8<sup>th</sup> annual &quot\;In the Shade of the Vine&quot\; benefiting</span></p>\n	<p style="margin: 0in 0in 0pt\; font-size: 20pt\;">\n		<span face="Times New Roman" style="color: rgb(0\, 0\, 0)\; font-family: Times New Roman\; font-size: 12pt\;">Concerned Care\, Inc. will take place on Sunday\, April 7<sup>th</sup> in the Grove (Marshall&#39\;s building) at Zona Rosa from 6:30 to 9:00 p.m.</span></p>\n	<p style="margin: 0in 0in 0pt\;">\n		&nbsp\;</p>\n	<p style="margin: 0in 0in 0pt\;">\n		<span face="Times New Roman" style="color: rgb(0\, 0\, 0)\; font-family: Times New Roman\; font-size: 12pt\;">Guests will enjoy sampling wines from over a dozen Missouri vineyards\, a brew pub and food from a variety of area restaurants. </span></p>\n	<p style="margin: 0in 0in 0pt\;">\n		&nbsp\;</p>\n	<p style="margin: 0in 0in 0pt\;">\n		<span face="Times New Roman" style="color: rgb(0\, 0\, 0)\; font-family: Times New Roman\; font-size: 12pt\;">A silent auction will feature restaurant certificates\, food &amp\; wine related items.</span></p>\n	<p style="margin: 0in 0in 0pt\;">\n		&nbsp\;</p>\n	<p style="margin: 0in 0in 0pt\;">\n		<span face="Times New Roman" style="color: rgb(0\, 0\, 0)\; font-family: Times New Roman\; font-size: 12pt\;">Major sponsors include Zona Rosa\, Gomer&#39\;s Northland and Heart of America Catering at KCI Expo Center.<span> </span></span></p>\n	<p style="margin: 0in 0in 0pt\;">\n		&nbsp\;</p>\n	<p style="margin: 0in 0in 0pt\;">\n		<span face="Times New Roman" style="color: rgb(0\, 0\, 0)\; font-family: Times New Roman\; font-size: 12pt\;">Reservations are necessary and ticket price is $50.00 per person.<span> </span>For additional information contact Carolyn Henry\, 816.474.3026\, Ext. 103.</span></p>\n	<p style="margin: 0in 0in 0pt\;">\n		&nbsp\;</p>\n	<p style="margin: 0in 0in 0pt\;">\n		<span face="Times New Roman" style="color: rgb(0\, 0\, 0)\; font-family: Times New Roman\; font-size: 12pt\;">Since 1972 <b>Concerned Care\, Inc.</b> has provided residential support services to</span></p>\n	<p style="margin: 0in 0in 0pt\;">\n		<span face="Times New Roman" style="color: rgb(0\, 0\, 0)\; font-family: Times New Roman\; font-size: 12pt\;">Clay County residents with developmental disabilities.<span> </span>Residential services</span></p>\n	<p style="margin: 0in 0in 0pt\;">\n		<span face="Times New Roman" style="color: rgb(0\, 0\, 0)\; font-family: Times New Roman\; font-size: 12pt\;">include Group Homes\, Individualized Supported Living and Apartment </span></p>\n	<p style="margin: 0in 0in 0pt\;">\n		<span face="Times New Roman" style="color: rgb(0\, 0\, 0)\; font-family: Times New Roman\; font-size: 12pt\;">Programs.<span> </span>The Recreation Program serves over 500 youth and adults with</span></p>\n	<p style="margin: 0in 0in 0pt\;">\n		<span face="Times New Roman" style="color: rgb(0\, 0\, 0)\; font-family: Times New Roman\; font-size: 12pt\;">a variety of sports activities and summer camps.<span> </span>Both programs are designed</span></p>\n	<p style="margin: 0in 0in 0pt\;">\n		<span face="Times New Roman" style="color: rgb(0\, 0\, 0)\; font-family: Times New Roman\; font-size: 12pt\;">to help those with Developmental Disabilities lead more independent lives</span></p>\n	<p style="margin: 0in 0in 0pt\;">\n		<span face="Times New Roman" style="color: rgb(0\, 0\, 0)\; font-family: Times New Roman\; font-size: 12pt\;">and enjoy community inclusion.</span></p>\n</div>\n
LOCATION:
UID:e.211.3518
SEQUENCE:3
DTSTAMP:20260425T224942Z
URL:https://members.nkcbusinesscouncil.com/events/details/8th-annual-wine-tasting-event-04-07-2013-3518
END:VEVENT

END:VCALENDAR
