BEGIN:VCALENDAR
VERSION:2.0
PRODID:-//ChamberMaster//Event Calendar 2.0//EN
METHOD:PUBLISH
X-PUBLISHED-TTL:P3D
REFRESH-INTERVAL:P3D
CALSCALE:GREGORIAN
BEGIN:VEVENT
DTSTART:20130513T130000Z
DTEND:20130513T180000Z
X-MICROSOFT-CDO-ALLDAYEVENT:FALSE
SUMMARY:5th Annual Sixth Congressional District Small Business Expo
DESCRIPTION:Please Join Us for the \n	\n		5th Annual Sixth Congressional District Small Business Expo \n	\n		Hosted by Congressman Sam Graves \n	\n		May 13\, 2012 8:00 am-1:00 pm \n	\n		KCPD Regional Police Training Academy \n	\n		6885 N.E. Pleasant Valley Road\, Kansas City\, Missouri \n	\n		There will be an opportunity for non-profit organizations to set up a promotional table for the Expo portion of the event\, but space is limited. If you are interested in a table\, please call Shawna at (816) 792-3976 to sign-up ASAP. \n	\n		8:00-9:00 AM Registration & Business Expo \n	\n		9:00-9:30 AM Congressman Sam Graves \n	\n		9:30-10:15 AM Keynote Speaker\, Hy-Vee \n	\n		10:20-11:30 AM Breakout Session 1 \n	\n		11:40-12:50 PM Breakout Session 2 \n	\n		AGENDA \n	\n		DISCUSSION PANELS \n	\n		ACCESS TO CAPITAL \n	\n		Small Business Administration\; U.S. Department of Agriculture Rural Development \n	\n		HEALTHCARE LAW: WHAT IT MEANS FOR YOUR BUSINESS \n	\n		Brian Johnston\, Polsinelli \n	\n		SOCIAL MEDIA 2.0 \n	\n		Vicki S. Cannon\, Cannon Social Media Solutions \n	\n		BEST BUSINESS PRACTICES \n	\n		Ewing Marion Kauffman Foundation\; Small Business & Technology Development Centers \n	\n		SUCCESS THROUGH NETWORKING \n	\n		Martin Taggart\, Success Unlimited \n	\n		INTRODUCTION TO CROWDFUNDING \n	\n		Candace Klein\, CEO & Founder\, SoMoLend
X-ALT-DESC;FMTTYPE=text/html:<div style="color: gray\;">\n	<p>\n		<span style="color: rgb(0\, 0\, 0)\;"><span style="font-size: 10px\;"><b><i>Please Join Us for the </i></b></span></span></p>\n	<p>\n		<span style="color: rgb(0\, 0\, 0)\;"><span style="font-size: 10px\;"><b><font face="Times New Roman\,Times New Roman"><font face="Times New Roman\,Times New Roman">5th Annual Sixth Congressional District Small Business Expo </font></font></b></span></span></p>\n	<p>\n		<span style="color: rgb(0\, 0\, 0)\;"><span style="font-size: 10px\;"><b><font face="Times New Roman\,Times New Roman"><font face="Times New Roman\,Times New Roman">Hosted by Congressman Sam Graves </font></font></b></span></span></p>\n	<p>\n		<span style="color: rgb(0\, 0\, 0)\;"><span style="font-size: 10px\;"><b><i>May 13\, 2012 8:00 am-1:00 pm </i></b></span></span></p>\n	<p>\n		<span style="color: rgb(0\, 0\, 0)\;"><span style="font-size: 10px\;"><b><i>KCPD Regional Police Training Academy </i></b></span></span></p>\n	<p>\n		<span style="color: rgb(0\, 0\, 0)\;"><span style="font-size: 10px\;"><b><i>6885 N.E. Pleasant Valley Road\, Kansas City\, Missouri </i></b></span></span></p>\n	<p>\n		<span style="color: rgb(0\, 0\, 0)\;"><span style="font-size: 10px\;"><b><font face="Times New Roman">There will be an opportunity for non-profit organizations to set up a promotional table for the Expo portion of the event\, but space is limited. If you are interested in a table\, please call Shawna at (816) 792-3976 to sign-up ASAP. </font></b></span></span></p>\n	<p>\n		<span style="color: rgb(0\, 0\, 0)\;"><span style="font-size: 10px\;"><b><font face="Times New Roman">8:00-9:00 AM Registration &amp\; Business Expo </font></b></span></span></p>\n	<p>\n		<span style="color: rgb(0\, 0\, 0)\;"><span style="font-size: 10px\;"><b><font face="Times New Roman">9:00-9:30 AM Congressman Sam Graves </font></b></span></span></p>\n	<p>\n		<span style="color: rgb(0\, 0\, 0)\;"><span style="font-size: 10px\;"><b><font face="Times New Roman">9:30-10:15 AM Keynote Speaker\, Hy-Vee </font></b></span></span></p>\n	<p>\n		<span style="color: rgb(0\, 0\, 0)\;"><span style="font-size: 10px\;"><b><font face="Times New Roman">10:20-11:30 AM Breakout Session 1 </font></b></span></span></p>\n	<p>\n		<span style="color: rgb(0\, 0\, 0)\;"><span style="font-size: 10px\;"><b><font face="Times New Roman">11:40-12:50 PM Breakout Session 2 </font></b></span></span></p>\n	<p>\n		<span style="color: rgb(0\, 0\, 0)\;"><span style="font-size: 10px\;"><b><font face="Century Schoolbook\,Century Schoolbook"><font face="Century Schoolbook\,Century Schoolbook">AGENDA </font></font></b></span></span></p>\n	<p>\n		<span style="color: rgb(0\, 0\, 0)\;"><span style="font-size: 10px\;"><b><font face="Century Schoolbook\,Century Schoolbook"><font face="Century Schoolbook\,Century Schoolbook">DISCUSSION PANELS </font></font></b></span></span></p>\n	<p>\n		<span style="color: rgb(0\, 0\, 0)\;"><span style="font-size: 10px\;"><b><font face="Times New Roman\,Times New Roman"><font face="Times New Roman\,Times New Roman">ACCESS TO CAPITAL </font></font></b></span></span></p>\n	<p>\n		<span style="color: rgb(0\, 0\, 0)\;"><span style="font-size: 10px\;"><font face="Times New Roman\,Times New Roman"><font face="Times New Roman\,Times New Roman">Small Business Administration\; U.S. Department of Agriculture Rural Development </font></font></span></span></p>\n	<p>\n		<span style="color: rgb(0\, 0\, 0)\;"><span style="font-size: 10px\;"><b><font face="Times New Roman\,Times New Roman"><font face="Times New Roman\,Times New Roman">HEALTHCARE LAW: WHAT IT MEANS FOR YOUR BUSINESS </font></font></b></span></span></p>\n	<p>\n		<span style="color: rgb(0\, 0\, 0)\;"><span style="font-size: 10px\;"><font face="Times New Roman\,Times New Roman"><font face="Times New Roman\,Times New Roman">Brian Johnston\, Polsinelli </font></font></span></span></p>\n	<p>\n		<span style="color: rgb(0\, 0\, 0)\;"><span style="font-size: 10px\;"><b><font face="Times New Roman\,Times New Roman"><font face="Times New Roman\,Times New Roman">SOCIAL MEDIA 2.0 </font></font></b></span></span></p>\n	<p>\n		<span style="color: rgb(0\, 0\, 0)\;"><span style="font-size: 10px\;"><font face="Times New Roman\,Times New Roman"><font face="Times New Roman\,Times New Roman">Vicki S. Cannon\, Cannon Social Media Solutions </font></font></span></span></p>\n	<p>\n		<span style="color: rgb(0\, 0\, 0)\;"><span style="font-size: 10px\;"><b><font face="Times New Roman\,Times New Roman"><font face="Times New Roman\,Times New Roman">BEST BUSINESS PRACTICES </font></font></b></span></span></p>\n	<p>\n		<span style="color: rgb(0\, 0\, 0)\;"><span style="font-size: 10px\;"><font face="Times New Roman\,Times New Roman"><font face="Times New Roman\,Times New Roman">Ewing Marion Kauffman Foundation\; Small Business &amp\; Technology Development Centers </font></font></span></span></p>\n	<p>\n		<span style="color: rgb(0\, 0\, 0)\;"><span style="font-size: 10px\;"><b><font face="Times New Roman\,Times New Roman"><font face="Times New Roman\,Times New Roman">SUCCESS THROUGH NETWORKING </font></font></b></span></span></p>\n	<p>\n		<span style="color: rgb(0\, 0\, 0)\;"><span style="font-size: 10px\;"><font face="Times New Roman\,Times New Roman"><font face="Times New Roman\,Times New Roman">Martin Taggart\, Success Unlimited </font></font></span></span></p>\n	<p>\n		<span style="color: rgb(0\, 0\, 0)\;"><span style="font-size: 10px\;"><b><font face="Times New Roman\,Times New Roman"><font face="Times New Roman\,Times New Roman">INTRODUCTION TO CROWDFUNDING </font></font></b></span></span></p>\n	<p>\n		<span style="color: rgb(0\, 0\, 0)\;"><span style="font-size: 10px\;"><font face="Times New Roman\,Times New Roman"><font face="Times New Roman\,Times New Roman">Candace Klein\, CEO &amp\; Founder\, SoMoLend </font></font></span></span></p>\n</div>\n
LOCATION:KCPD Regional Police Training Academy 6885 NE Pleasant Valley Road
UID:e.211.3533
SEQUENCE:3
DTSTAMP:20260425T194842Z
URL:https://members.nkcbusinesscouncil.com/events/details/5th-annual-sixth-congressional-district-small-business-expo-05-13-2013-3533
END:VEVENT

END:VCALENDAR
