BEGIN:VCALENDAR
VERSION:2.0
PRODID:-//ChamberMaster//Event Calendar 2.0//EN
METHOD:PUBLISH
X-PUBLISHED-TTL:P3D
REFRESH-INTERVAL:P3D
CALSCALE:GREGORIAN
BEGIN:VEVENT
DTSTART:20130827T210000Z
DTEND:20130828T010000Z
X-MICROSOFT-CDO-ALLDAYEVENT:FALSE
SUMMARY:3rd Annual NKC Triple Play
DESCRIPTION:Do you need a fun and easy way to thank your employees for all their hard work?\n\nAre you looking for a unique team building opportunity for your company?\n\nAre you and your friends looking for something fun to do?\n\nThen sign up your teams of four or two today for the 2013 Triple Play taking place at the Smoke-Free AMF ProBowl Lanes.\n\n\n\nGreat Prizes for the top teams!\n\nWe will have bowling\, billiards\, mini-golf and go-carts!\n\nDinner and soft drinks are provided!\n\nBeer and other drinks are available for purchase!
X-ALT-DESC;FMTTYPE=text/html:Do you need a fun and easy way to thank your employees for all their hard work?<br />\nAre you looking for a unique team building opportunity for your company?<br />\nAre you and your friends looking for something fun to do?<br />\nThen sign up your teams of four or&nbsp\;two&nbsp\;today for the 2013 Triple Play taking place at the Smoke-Free AMF ProBowl Lanes.<br />\n<br />\nGreat Prizes for the top teams!<br />\nWe will have bowling\, billiards\, mini-golf and go-carts!<br />\nDinner and soft drinks are provided!<br />\nBeer and other drinks are available for purchase! 
LOCATION:AMF ProBowl 505 E. 18th Avenue
UID:e.211.3510
SEQUENCE:3
DTSTAMP:20260425T151250Z
URL:https://members.nkcbusinesscouncil.com/events/details/3rd-annual-nkc-triple-play-08-27-2013-3510
END:VEVENT

END:VCALENDAR
