BEGIN:VCALENDAR
VERSION:2.0
PRODID:-//ChamberMaster//Event Calendar 2.0//EN
METHOD:PUBLISH
X-PUBLISHED-TTL:P3D
REFRESH-INTERVAL:P3D
CALSCALE:GREGORIAN
BEGIN:VEVENT
DTSTART:20160415T163000Z
DTEND:20160415T180000Z
X-MICROSOFT-CDO-ALLDAYEVENT:FALSE
SUMMARY:"3D Mammography" Lunch and Learn Seminar Series
DESCRIPTION:North Kansas City YMCA\; 1999 Iron Street in North Kansas City\, MO\, 64116 \n\n3-D mammography is the latest technology in breast cancer detection\, and it's now available in the Women's Imaging Center at NKCH. Join Chris Formen\, MD\, as he talks about how 3-D technology helps doctors detect more and smaller cancers and shares information about the other services the Imaging Center offers.\n\nFREE\; lunch is provided. To register\, go online at nkch.org.\n\n\n\n\n\nRegister at www.nkch.org or call 816-691-1690.
X-ALT-DESC;FMTTYPE=text/html:<span style="font-size: medium\;"><span style="font-family: calibri\;">North Kansas City YMCA\; 1999 Iron Street in North Kansas City\, MO\, 64116 </span></span><br />\n<span style="font-size: medium\;"><span style="font-family: calibri\;">3-D mammography is the latest technology in breast cancer detection\, and it&rsquo\;s now available in the Women&rsquo\;s Imaging Center at NKCH. Join Chris Formen\, MD\, as he talks about how 3-D technology helps doctors detect more and smaller cancers and shares information about the other services the Imaging Center offers.</span></span><br />\n<span style="font-size: medium\;"><span style="font-family: calibri\;">FREE<span style="color: rgb(34\, 30\, 31)\;">\; lunch is provided. </span>To register\, go online at nkch.org.</span></span><br />\n<br />\n<br />\n<strong>Register at www.nkch.org or call 816-691-1690.</strong>
LOCATION:The Center (North Kansas City Community Center) 1999 Iron Street North Kansas City\, MO
UID:e.211.5040
SEQUENCE:3
DTSTAMP:20260423T175840Z
URL:https://members.nkcbusinesscouncil.com/events/details/3d-mammography-lunch-and-learn-seminar-series-04-15-2016-5040
END:VEVENT

END:VCALENDAR
