BEGIN:VCALENDAR
VERSION:2.0
PRODID:-//ChamberMaster//Event Calendar 2.0//EN
METHOD:PUBLISH
X-PUBLISHED-TTL:P3D
REFRESH-INTERVAL:P3D
CALSCALE:GREGORIAN
BEGIN:VEVENT
DTSTART:20260423T163000Z
DTEND:20260423T180000Z
X-MICROSOFT-CDO-ALLDAYEVENT:FALSE
SUMMARY:2026 April Membership Luncheon: North Kansas City Police
DESCRIPTION:Join the North Kansas City Business Council for its April Monthly Membership Luncheon on Thursday\, April 23\, hosted by Stor-Safe/iWerx.\n\n \n\nThis month's program puts a spotlight on the North Kansas City Police Department and the North Kansas City Police Foundation\, featuring:\n\n \n\n\n	\n	Chief Kevin Freeman: "State of Crime and Safety in the City"\n	\n	\n	Officer Sydnee Weigart: Community Policing and FIFA World Cup expectations\n	\n	\n	John Miller\, Foundation President: The purpose and vision behind the NKC Police Foundation's creation\n	\n	\n	Kelli Alldredge\, Chicken N Pickle: Supporting the NKC Police Foundation\n	\n\n\n \n\nAs a special bonus\, all registration proceeds will be donated directly to the North Kansas City Police Foundation.
X-ALT-DESC;FMTTYPE=text/html:<p style="direction: ltr\; text-align: left\; text-indent: 0px\; background-color: rgb(255\, 255\, 255)\; margin: 0in\;"><span style="font-size:14px\;"><span style="font-family:tahoma\;"><span data-olk-copy-source="MailCompose" style="color: black\;">Join the North Kansas City Business Council for its April Monthly Membership Luncheon on Thursday\, April 23\, hosted by Stor-Safe/iWerx.</span></span></span></p>\n\n<p style="direction: ltr\; text-align: left\; text-indent: 0px\; background-color: rgb(255\, 255\, 255)\; margin: 0in\;"><span style="font-size:14px\;"><span style="font-family:tahoma\;"><span style="color: black\;">&nbsp\;</span></span></span></p>\n\n<p style="direction: ltr\; text-align: left\; text-indent: 0px\; background-color: rgb(255\, 255\, 255)\; margin: 0px 0in\;"><span style="font-size:14px\;"><span style="font-family:tahoma\;"><span style="color: black\;">This month&#39\;s program puts a spotlight on the North Kansas City Police Department and the North Kansas City Police Foundation\, featuring:</span></span></span></p>\n\n<p style="direction: ltr\; text-align: left\; text-indent: 0px\; background-color: rgb(255\, 255\, 255)\; margin: 0in\;">&nbsp\;</p>\n\n<ul data-editing-info="{&quot\;applyListStyleFromLevel&quot\;:true}" style="direction: ltr\; text-align: left\; margin-top: 0px\; margin-bottom: 0px\; list-style-type: disc\; flex-direction: column\; display: flex\;">\n	<li style="font-family: Verdana\, sans-serif\; font-size: 12pt\; color: black\; direction: ltr\; align-self: start\; margin: 0in\;">\n	<p role="presentation" style="direction: ltr\; text-align: left\; text-indent: 0px\; background-color: rgb(255\, 255\, 255)\; margin-top: 0in\; margin-bottom: 0in\;"><span style="font-size:14px\;"><span style="font-family:tahoma\;"><b>Chief Kevin Freeman:</b> <span style="color: rgb(0\, 0\, 0)\;">&ldquo\;State of Crime and Safety in the City&rdquo\;</span></span></span></p>\n	</li>\n	<li style="font-family: Verdana\, sans-serif\; font-size: 12pt\; color: rgb(0\, 0\, 0)\; direction: ltr\; align-self: start\; margin: 0in\;">\n	<div role="presentation" style="direction: ltr\; text-align: left\; text-indent: 0px\; background-color: rgb(255\, 255\, 255)\; margin-top: 0in\; margin-bottom: 0in\;"><span style="font-size:14px\;"><span style="font-family:tahoma\;"><b>Officer Sydnee Weigart</b>: Community Policing and FIFA World Cup expectations</span></span></div>\n	</li>\n	<li style="font-family: Verdana\, sans-serif\; font-size: 12pt\; color: black\; direction: ltr\; align-self: start\; margin: 0px 0in\;">\n	<p role="presentation" style="direction: ltr\; text-align: left\; text-indent: 0px\; background-color: rgb(255\, 255\, 255)\; margin-top: 0px\; margin-bottom: 0px\;"><span style="font-size:14px\;"><span style="font-family:tahoma\;"><b>John Miller\, Foundation President:</b>&nbsp\;The purpose and vision behind the NKC Police&nbsp\;Foundation&#39\;s creation</span></span></p>\n	</li>\n	<li style="font-family: Verdana\, sans-serif\; font-size: 12pt\; color: black\; direction: ltr\; align-self: start\; margin: 0px 0in\;">\n	<p role="presentation" style="direction: ltr\; text-align: left\; text-indent: 0px\; background-color: rgb(255\, 255\, 255)\; margin-top: 0px\; margin-bottom: 0px\;"><span style="font-size:14px\;"><span style="font-family:tahoma\;"><b>Kelli Alldredge\, Chicken N Pickle</b>: S<span style="color: rgb(0\, 0\, 0)\;">upporting the </span>NKC Police F<span style="color: rgb(0\, 0\, 0)\;">oundation</span></span></span></p>\n	</li>\n</ul>\n\n<p style="direction: ltr\; text-align: left\; text-indent: 0px\; background-color: rgb(255\, 255\, 255)\; margin: 0in\;"><span style="font-size:14px\;"><span style="font-family:tahoma\;"><span style="color: black\;">&nbsp\;</span></span></span></p>\n\n<p style="direction: ltr\; text-align: left\; text-indent: 0px\; background-color: rgb(255\, 255\, 255)\; margin: 0in\;"><span style="font-size:14px\;"><span style="font-family:tahoma\;"><span style="color: black\;"><i>As a special bonus\, all registration proceeds will be donated directly to the North Kansas City Police Foundation.</i></span></span></span></p>\n
LOCATION:iWerx\, 1520 Clay
UID:e.211.6054
SEQUENCE:3
DTSTAMP:20260420T073730Z
URL:https://members.nkcbusinesscouncil.com/events/details/2026-april-membership-luncheon-north-kansas-city-police-6054
END:VEVENT

END:VCALENDAR
