BEGIN:VCALENDAR
VERSION:2.0
PRODID:-//ChamberMaster//Event Calendar 2.0//EN
METHOD:PUBLISH
X-PUBLISHED-TTL:P3D
REFRESH-INTERVAL:P3D
CALSCALE:GREGORIAN
BEGIN:VEVENT
DTSTART;VALUE=DATE:20240606
DTEND;VALUE=DATE:20240607
TRANSP:TRANSPARENT
X-MICROSOFT-CDO-ALLDAYEVENT:TRUE
SUMMARY:2024 Mickey Finn Scholarship Golf Classic
DESCRIPTION:Once registered\, please send an email to richard@nkcbusinesscouncil.com with the names of the members on your team.
X-ALT-DESC;FMTTYPE=text/html:Once registered\, please send an email to richard@nkcbusinesscouncil.com with the names of the members on your team.
LOCATION:Tiffany Greens Golf Course 5900 NW Tiffany Springs PKWY\, Kansas City\, MO 64154
UID:e.211.5903
SEQUENCE:3
DTSTAMP:20260420T130447Z
URL:https://members.nkcbusinesscouncil.com/events/details/2024-mickey-finn-scholarship-golf-classic-5903
END:VEVENT

END:VCALENDAR
