BEGIN:VCALENDAR
VERSION:2.0
PRODID:-//ChamberMaster//Event Calendar 2.0//EN
METHOD:PUBLISH
X-PUBLISHED-TTL:P3D
REFRESH-INTERVAL:P3D
CALSCALE:GREGORIAN
BEGIN:VEVENT
DTSTART:20240503T123000Z
DTEND:20240503T140000Z
X-MICROSOFT-CDO-ALLDAYEVENT:FALSE
SUMMARY:2024 May NKCBC First Friday Coffee
DESCRIPTION:Join us for a lively morning of coffee and chat at the First Friday Coffee networking event! It happens every month\, hosted at different locations by our North Kansas City Business Council members. It's a great opportunity to connect with your fellow members\, meet other NKC business folks\, and even rub shoulders with elected officials and civic leaders. Let's keep it simple\, sip some coffee\, and enjoy some good conversations!
X-ALT-DESC;FMTTYPE=text/html:<span style="font-family:tahoma\;"><span style="font-size:14px\;"><span id="docs-internal-guid-3410055c-7fff-08a2-a496-75be7e2c5960"><span style="color: rgb(15\, 15\, 15)\; background-color: transparent\; font-variant-numeric: normal\; font-variant-east-asian: normal\; font-variant-alternates: normal\; font-variant-position: normal\; vertical-align: baseline\; white-space-collapse: preserve\;">Join us for a lively morning of coffee and chat at the <strong>First Friday Coffee</strong> networking event! It happens every month\, hosted at different locations by our North Kansas City Business Council members. It&#39\;s a great opportunity to connect with your fellow members\, meet other NKC business folks\, and even rub shoulders with elected officials and civic leaders. Let&#39\;s keep it simple\, sip some coffee\, and enjoy some good conversations!</span></span></span></span>
LOCATION:Midwest Aortic & Vascular Institute\, P.C. 2750 Clay Edwards Drive\, Suite 304 North Kansas City\, MO 64116
UID:e.211.5894
SEQUENCE:3
DTSTAMP:20260420T091514Z
URL:https://members.nkcbusinesscouncil.com/events/details/2024-may-nkcbc-first-friday-coffee-5894
END:VEVENT

END:VCALENDAR
