BEGIN:VCALENDAR
VERSION:2.0
PRODID:-//ChamberMaster//Event Calendar 2.0//EN
METHOD:PUBLISH
X-PUBLISHED-TTL:P3D
REFRESH-INTERVAL:P3D
CALSCALE:GREGORIAN
BEGIN:VEVENT
DTSTART:20240523T163000Z
DTEND:20240523T180000Z
X-MICROSOFT-CDO-ALLDAYEVENT:FALSE
SUMMARY:2024 May Monthly Membership Luncheon
DESCRIPTION:Join us on the 4th Thursday of every month for lunch and networking with fellow NKCBC members\, as well as other North Kansas City business owners and representatives\, community leaders\, and elected officials. In addition to lunch and networking\, you will enjoy a presentation by our featured speaker.
X-ALT-DESC;FMTTYPE=text/html:<br />\n<br />\n<br />\n<span style="font-size: 14px\;">Join us on the 4th Thursday of every month for lunch and networking with fellow NKCBC members\, as well as other North Kansas City business owners and representatives\, community leaders\, and elected officials.&nbsp\;In addition to lunch and networking\, you will enjoy a presentation by our featured speaker.</span><br />\n<br />\n<br />\n&nbsp\;
LOCATION:Chicken N Pickle 1761 Burlington North Kansas City\, MO 64116
UID:e.211.5884
SEQUENCE:3
DTSTAMP:20260420T091807Z
URL:https://members.nkcbusinesscouncil.com/events/details/2024-may-monthly-membership-luncheon-5884
END:VEVENT

END:VCALENDAR
