BEGIN:VCALENDAR
VERSION:2.0
PRODID:-//ChamberMaster//Event Calendar 2.0//EN
METHOD:PUBLISH
X-PUBLISHED-TTL:P3D
REFRESH-INTERVAL:P3D
CALSCALE:GREGORIAN
BEGIN:VEVENT
DTSTART:20240328T163000Z
DTEND:20240328T180000Z
X-MICROSOFT-CDO-ALLDAYEVENT:FALSE
SUMMARY:2024 March Monthly Membership Luncheon
DESCRIPTION:Presenting Dr Stephen L. Reintjes\, Sr.\, MD as president and chief executive officer of North Kansas City Hospital and Meritas Health. Stephen Reintjes Sr.\, MD\, leads an organization committed to meeting the healthcare needs of the Kansas City community with the safest and highest quality of care at every access point. \n\n\n\nHe oversees a large team of more than 4\,000 employees and over 500 physicians who deliver care at more than 30 locations. He directs business development and market growth\, quality and care optimization\, supply chain sustainability and financial viability. \n\n\n\nSteve is a well- respected neurosurgeon and has been an engaged member of the NKCH medical staff for 30 years\, beginning in 1989 when he joined the neurosurgery staff. Before becoming president and CEO in May 2020\, he leds Meritas Health Neurosurgery for seven years.
X-ALT-DESC;FMTTYPE=text/html:<div>Presenting Dr Stephen L. Reintjes\, Sr.\, MD as president and chief executive officer of North Kansas City Hospital and Meritas Health. Stephen Reintjes Sr.\, MD\, leads an organization committed to meeting the healthcare needs of the Kansas City community with the safest and highest quality of care at every access point.&nbsp\;<br />\n<br />\nHe oversees a large team of more than 4\,000 employees and over 500 physicians who deliver care at more than 30 locations. He directs business development and market growth\, quality and care optimization\, supply chain sustainability and financial viability.&nbsp\;<br />\n<br />\nSteve is a well- respected neurosurgeon and has been an engaged member of the NKCH medical staff for 30 years\, beginning in 1989 when he joined the neurosurgery staff. Before becoming president and CEO in May 2020\, he leds Meritas Health Neurosurgery for seven years.&nbsp\;</div>\n&nbsp\;\n\n<div align="center" style="text-align: center\;">&nbsp\;</div>\n
LOCATION:The Pavilion @ iWerx NKC 1520 Clay St. North Kansas City\, Mo. 64116
UID:e.211.5882
SEQUENCE:3
DTSTAMP:20260419T221004Z
URL:https://members.nkcbusinesscouncil.com/events/details/2024-march-monthly-membership-luncheon-5882
END:VEVENT

END:VCALENDAR
