BEGIN:VCALENDAR
VERSION:2.0
PRODID:-//ChamberMaster//Event Calendar 2.0//EN
METHOD:PUBLISH
X-PUBLISHED-TTL:P3D
REFRESH-INTERVAL:P3D
CALSCALE:GREGORIAN
BEGIN:VEVENT
DTSTART:20240627T163000Z
DTEND:20240627T180000Z
X-MICROSOFT-CDO-ALLDAYEVENT:FALSE
SUMMARY:2024 June Monthly Membership Luncheon
DESCRIPTION:Join us on the 4th Thursday of every month for lunch and networking with fellow NKCBC members\, as well as other North Kansas City business owners and representatives\, community leaders\, and elected officials.  In addition to lunch and networking\, you will enjoy a presentation by our featured speaker. \n\n\n\nPresenter: Matthew Pezold\, Labor and Workforce Development Specialist at MU Extension\n\n\n\nMatt Pezold will offer helpful insights into innovative ways to find the increasingly scarce resource of good employees. Topics covered will include Workforce Trends\, Economic Trends\, Job Growth\, General Industry Trends and Overview of MU Extension Business and Communities resources. Matt effectively learns from and shares experiences from relationships with local economic developers\, the Mid-America Regional Council\, Northland Education and Business Alliance\, local school districts\, and the building trades. He also serves as a program analyst and supports healthier workplace initiatives. Matt also regularly hosts the Labor Law Luncheon series for the labor and management communities in Kansas City and provides regional economic presentations.
X-ALT-DESC;FMTTYPE=text/html:<p><br />\n<br />\n<br />\n<span style="font-size:14px\;"><span style="font-family:arial\;">Join us on the 4th Thursday of every month for lunch and networking with fellow NKCBC members\, as well as other North Kansas City business owners and representatives\, community leaders\, and elected officials.&nbsp\; In addition to lunch and networking\, you will enjoy a presentation by our featured speaker.&nbsp\;</span></span><br />\n<br />\n<span style="font-family: arial\; font-size: 14px\; background-color: rgb(255\, 255\, 255)\;">Presenter: Matthew Pezold\,&nbsp\;</span><span style="font-family: arial\; font-size: 14px\; background-color: rgb(255\, 255\, 255)\;">Labor and Workforce Development Specialist at MU Extension</span><br />\n<br style="color: rgb(51\, 51\, 51)\; font-family: arial\; font-size: 14px\; background-color: rgb(255\, 255\, 255)\;" />\n<span style="font-family: arial\; font-size: 14px\; background-color: rgb(255\, 255\, 255)\;">Matt Pezold will offer helpful insights into innovative ways to find the increasingly scarce resource of good employees. Topics covered will include&nbsp\;Workforce Trends\, Economic Trends\, Job Growth\, General Industry Trends and Overview of MU Extension Business and Communities resources. Matt effectively learns from and shares experiences from relationships with local economic developers\, the Mid-America Regional Council\, Northland Education and Business Alliance\, local school districts\, and the building trades. He also serves as a program analyst and supports healthier workplace initiatives. Matt also regularly hosts the Labor Law Luncheon series for the labor and management communities in Kansas City and provides regional economic presentations.&nbsp\;</span><br style="color: rgb(51\, 51\, 51)\; font-family: arial\; font-size: 14px\; background-color: rgb(255\, 255\, 255)\;" />\n<span style="color: rgb(51\, 51\, 51)\; font-family: arial\; font-size: 14px\; background-color: rgb(255\, 255\, 255)\;">&nbsp\;</span><br />\n&nbsp\;</p>\n
LOCATION:
UID:e.211.5885
SEQUENCE:3
DTSTAMP:20260420T131830Z
URL:https://members.nkcbusinesscouncil.com/events/details/2024-june-monthly-membership-luncheon-5885
END:VEVENT

END:VCALENDAR
