BEGIN:VCALENDAR
VERSION:2.0
PRODID:-//ChamberMaster//Event Calendar 2.0//EN
METHOD:PUBLISH
X-PUBLISHED-TTL:P3D
REFRESH-INTERVAL:P3D
CALSCALE:GREGORIAN
BEGIN:VEVENT
DTSTART:20240425T163000Z
DTEND:20240425T180000Z
X-MICROSOFT-CDO-ALLDAYEVENT:FALSE
SUMMARY:2024 April Monthly Membership Luncheon
DESCRIPTION:Join us on the 4th Thursday of every month for lunch and networking with fellow NKCBC members\, as well as other North Kansas City business owners and representatives\, community leaders\, and elected officials.  In addition to lunch and networking\, you will enjoy a presentation by our featured speaker. \n\n\n\nThe North Kansas City Business Council is always seeking ways to recognize and celebrate the achievements of its members and the North Kansas City business community\, provide valuable benefits and rewards to our members\, and grow and strengthen our organization to be able to provide the highest level of service to our members and the entire NKC community.\n\nEach quarter will feature events\, activities\, and information related to the specific focus of that quarter\, with the highlight being a special luncheon program offered the first month of the quarter. This month will be be focused on Entrepreneurship.
X-ALT-DESC;FMTTYPE=text/html:<span style="color: rgb(51\, 51\, 51)\; font-family: arial\; font-size: 14px\; background-color: rgb(255\, 255\, 255)\;">Join us on the 4th Thursday of every month for lunch and networking with fellow NKCBC members\, as well as other North Kansas City business owners and representatives\, community leaders\, and elected officials.&nbsp\; In addition to lunch and networking\, you will enjoy a presentation by our featured speaker.&nbsp\;</span><br />\n<br />\n<span style="box-sizing: border-box\; color: rgb(68\, 68\, 68)\; font-family: Rubik\, sans-serif\; background-color: rgb(255\, 255\, 255)\; font-size: 14px\;"><span style="box-sizing: border-box\; font-family: arial\;"><span style="box-sizing: border-box\; color: rgb(0\, 0\, 0)\;">The North Kansas City Business Council is always seeking ways to recognize and celebrate the achievements of its members and the North Kansas City business community\, provide valuable benefits and rewards to our members\, and grow and strengthen our organization to be able to provide the highest level of service to our members and the entire NKC community.</span></span></span>\n<div style="box-sizing: border-box\; outline: 0px\; color: rgb(68\, 68\, 68)\; font-family: Rubik\, sans-serif\; font-size: 16px\; background-color: rgb(255\, 255\, 255)\;">\n<p style="box-sizing: border-box\; margin: 0px 0px 1rem\; outline: 0px\;"><span style="box-sizing: border-box\; outline: 0px\; font-size: 14px\;"><span style="box-sizing: border-box\; outline: 0px\; font-family: arial\;"><span style="box-sizing: border-box\; outline: 0px\; color: rgb(0\, 0\, 0)\;">Each quarter will feature events\, activities\, and information related to the specific focus of that quarter\, with the highlight being a special luncheon program offered the first month of the quarter. This month will be be focused on <em><strong>Entrepreneurship.</strong></em></span></span></span><br />\n&nbsp\;</p>\n\n<table align="center" border="0" cellpadding="0" cellspacing="0" style="width:100.0%\;border-collapse:collapse\;" width="100%">\n	<tbody>\n		<tr>\n			<td style="width:100.0%\;background:white\;padding:0in 0in 0in 0in\;vertical-align:top\;">&nbsp\;</td>\n		</tr>\n	</tbody>\n</table>\n</div>\n
LOCATION:The Pavilion @ iWerx NKC 1520 Clay St. North Kansas City\, Mo. 64116
UID:e.211.5883
SEQUENCE:3
DTSTAMP:20260419T182313Z
URL:https://members.nkcbusinesscouncil.com/events/details/2024-april-monthly-membership-luncheon-5883
END:VEVENT

END:VCALENDAR
