BEGIN:VCALENDAR
VERSION:2.0
PRODID:-//ChamberMaster//Event Calendar 2.0//EN
METHOD:PUBLISH
X-PUBLISHED-TTL:P3D
REFRESH-INTERVAL:P3D
CALSCALE:GREGORIAN
BEGIN:VEVENT
DTSTART:20170712T223000Z
DTEND:20170713T003000Z
X-MICROSOFT-CDO-ALLDAYEVENT:FALSE
SUMMARY:2017 NKC Trivia Championship
DESCRIPTION:Can you beat our current Champions?\n\n\n\nMake a team of four of your smartest coworkers or friends and meet us at Cinder Block Brewery for a head-to-head battle of the wits at our first NKC Trivia Championship.\n\n\n\nWill your team take the top prize and prove your company is the smartest?\n\nDrinks available but not provided.\n\nFood may be brought in for this event.\n\nPlease limit attendees to only 4 person teams - We want this to be fair!
X-ALT-DESC;FMTTYPE=text/html:Can you beat our current Champions?<br />\n<br />\nMake a team of&nbsp\;four of your smartest coworkers or friends and meet us at Cinder Block Brewery for a head-to-head battle of the wits at our first NKC Trivia Championship.<br />\n<br />\nWill your team take the top prize and prove your company is the smartest?<br />\nDrinks available but not provided.<br />\nFood may be&nbsp\;brought in for this event.<br />\n<strong><span style="color: rgb(255\, 0\, 0)\;">Please&nbsp\;limit attendees to only 4 person teams - We want this to be fair!</span></strong><br />\n&nbsp\;
LOCATION:Cinder Block Brewery 110 E 18th Ave.
UID:e.211.5344
SEQUENCE:3
DTSTAMP:20260419T121754Z
URL:https://members.nkcbusinesscouncil.com/events/details/2017-nkc-trivia-championship-5344
END:VEVENT

END:VCALENDAR
