BEGIN:VCALENDAR
VERSION:2.0
PRODID:-//ChamberMaster//Event Calendar 2.0//EN
METHOD:PUBLISH
X-PUBLISHED-TTL:P3D
REFRESH-INTERVAL:P3D
CALSCALE:GREGORIAN
BEGIN:VEVENT
DTSTART:20160430T130000Z
DTEND:20160430T170000Z
X-MICROSOFT-CDO-ALLDAYEVENT:FALSE
SUMMARY:2016 NKC Schools 5K
DESCRIPTION:Sign up for the ninth annual NKC Schools 5K and join us for other family-friendly activities including children's games\, face painting\, chalk art and a football field fun run!\n\nThe event benefits the Education Foundation and PTAs\, PTOs\, PTSAs and Booster Clubs at district schools. When you register\, $5 goes to the school you designate. Schools have an opportunity to earn extra dollars by competing for the highest percentage of participants based on enrollment. The high school\, middle school and elementary school that take the top spots get $250! Additional money goes to elementaries that finish second ($150)\, third ($100) and fourth ($50).\n\nAn adult registration costs $30 with a T-shirt and $25 without. The cost for students 18 and under is $15 with a T-shirt and $10 without. A Family Stroll for multiple family members is $30 with one T-shirt and $25 without. PLEASE NOTE: You must register by noon on April 18 to receive a T-shirt.\n\nPrizes and medals will be awarded to top male and female finishers in various age brackets.
X-ALT-DESC;FMTTYPE=text/html:<p>Sign up for the ninth annual NKC Schools 5K and join us for other family-friendly activities including children&rsquo\;s games\, face painting\, chalk art and a football field fun run!</p>\n\n<p>The event benefits the Education Foundation and PTAs\, PTOs\, PTSAs and Booster Clubs at&nbsp\;district schools. When you register\, $5 goes to the school you designate. Schools have an opportunity to earn extra dollars by competing for the highest percentage of participants based on enrollment. The high school\, middle school and elementary school that take the top spots get $250! Additional money goes to elementaries that finish second ($150)\, third ($100) and fourth ($50).</p>\n\n<p>An adult registration costs $30 with a T-shirt and $25 without. The cost for students 18 and under is $15 with a T-shirt and $10 without. A Family Stroll for multiple family members is $30 with one T-shirt and $25 without. <b>PLEASE NOTE: You must register by noon on April 18 to receive a T-shirt.</b></p>\n\n<p>Prizes and medals will be awarded to top male and female finishers in various age brackets.</p>\n
LOCATION:SATURDAY\, APRIL 30\, 2016 5K WALK/RUN: 9 AM START DISTRICT FOOTBALL STADIUM Adjacent to North Kansas City High School 620 E. 23rd Avenue\, North Kansas City\, MO 64116
UID:e.211.5071
SEQUENCE:3
DTSTAMP:20260423T175627Z
URL:https://members.nkcbusinesscouncil.com/events/details/2016-nkc-schools-5k-04-30-2016-5071
END:VEVENT

END:VCALENDAR
