BEGIN:VCALENDAR
VERSION:2.0
PRODID:-//ChamberMaster//Event Calendar 2.0//EN
METHOD:PUBLISH
X-PUBLISHED-TTL:P3D
REFRESH-INTERVAL:P3D
CALSCALE:GREGORIAN
BEGIN:VEVENT
DTSTART:20130426T150000Z
DTEND:20130426T170000Z
X-MICROSOFT-CDO-ALLDAYEVENT:FALSE
SUMMARY:2013 Worker's Memorial Day Event
DESCRIPTION:Each year in the United States over 4\,000 workers are killed on the job.\n\n		\n\n		Workers' Memorial Day commemorates those fallen workers.\n\n		\n\n		This year the OSHA Region VII Office\, OSHA Kansas City Area Office and The Builders' Association will be hosting a Workers' Memorial Day Event to recognize and pay respect to all workers who have died in the workplace.\n\n		\n\n		Come join us in this event recognizing the importance of all workers' safety and health in the workplace
X-ALT-DESC;FMTTYPE=text/html:<div style="color: gray\;">\n	<p align="LEFT">\n		<span style="color: rgb(0\, 0\, 0)\;"><font face="Arial">Each year in the United States over 4\,000 workers are killed on the job.<br />\n		<br />\n		Workers&#39\; Memorial Day </font><font face="Arial">commemorates those fallen workers.<br />\n		<br />\n		This year the OSHA Region VII Office\, OSHA Kansas City </font><font face="Arial">Area Office and The Builders&rsquo\; Association will be hosting a Workers&rsquo\; Memorial Day Event to recognize and pay respect to all workers who have died in the workplace.<br />\n		<br />\n		Come join us in this event recognizing the importance of all workers&rsquo\; safety and health in the workplace</font></span></p>\n</div>\n
LOCATION:The Builders' Association Education and Training Center 105 West 12th Avenue North Kansas City\, Missouri 64116
UID:e.211.3523
SEQUENCE:3
DTSTAMP:20260425T211724Z
URL:https://members.nkcbusinesscouncil.com/events/details/2013-worker-s-memorial-day-event-04-26-2013-3523
END:VEVENT

END:VCALENDAR
