BEGIN:VCALENDAR
VERSION:2.0
PRODID:-//ChamberMaster//Event Calendar 2.0//EN
METHOD:PUBLISH
X-PUBLISHED-TTL:P3D
REFRESH-INTERVAL:P3D
CALSCALE:GREGORIAN
BEGIN:VEVENT
DTSTART:20151212T190000Z
DTEND:20151212T220000Z
X-MICROSOFT-CDO-ALLDAYEVENT:FALSE
SUMMARY:12 Annual Holiday Tea at the Public Library
DESCRIPTION:Join the library for an afternoon of delicious refreshments and festive fun. Sponsored by the Friends of the Library.
X-ALT-DESC;FMTTYPE=text/html:Join the library for an afternoon of delicious refreshments and festive fun. Sponsored by the Friends of the Library.
LOCATION:North Kansas City Public Library 2251 Howell
UID:e.211.4672
SEQUENCE:3
DTSTAMP:20260424T024849Z
URL:https://members.nkcbusinesscouncil.com/events/details/12-annual-holiday-tea-at-the-public-library-12-12-2015-4672
END:VEVENT

END:VCALENDAR
